BEGIN:VCALENDAR
VERSION:2.0
PRODID:-//Nacidos de la Tierra//NONSGML kigkonsult.se iCalcreator 2.41.92//
CALSCALE:GREGORIAN
METHOD:PUBLISH
UID:38373161-6536-4430-b033-613632643061
X-WR-CALNAME:iCagenda
X-WR-CALDESC:Event Management Extension for Joomla!
X-WR-RELCALID:3E26604A-50F4-4449-8B3E-E4F4932D05B5
X-WR-TIMEZONE:Europe/Madrid
BEGIN:VTIMEZONE
TZID:Europe/Madrid
TZUNTIL:20230326T010000Z
BEGIN:STANDARD
TZNAME:CET
DTSTART:20201025T030000
TZOFFSETFROM:+0200
TZOFFSETTO:+0100
RDATE:20211031T030000
RDATE:20221030T030000
END:STANDARD
BEGIN:DAYLIGHT
TZNAME:CEST
DTSTART:20210328T020000
TZOFFSETFROM:+0100
TZOFFSETTO:+0200
RDATE:20220327T020000
END:DAYLIGHT
END:VTIMEZONE
BEGIN:VEVENT
UID:30346335-6132-4337-a236-326535656534
DTSTAMP:20260420T030011Z
CATEGORIES:Actuaciones
CLASS:PUBLIC
DESCRIPTION;ALTREP="CID:<FFFF__=0ABBE548DFE235B58f9e8a93d@coffeebean.com>":
 ¡Únete a nosotros en un emocionante y transformador concierto-charla 'Trab
 ajando la Igualdad con Nacidos de la Tierra'! Te invitamos a disfrutar de 
 una velada llena de música vibrante\, mensajes inspiradores y reflexiones 
 sobre la importancia de la igualdad en nuestra sociedad.\nEn este evento\,
  Nacidos de la Tierra fusiona su música rap y hip-hop con una charla apasi
 onante que aborda los desafíos y las oportunidades para promover la iguald
 ad de género\, la diversidad cultural y el respeto mutuo. A través de nues
 tras letras y melodías\, queremos transmitir un mensaje de inclusión\, emp
 oderamiento y cambio positivo.\nEl Teatro Municipal de Marines será el esc
 enario perfecto para esta experiencia enriquecedora. Desde el momento en q
 ue cruces las puertas\, serás parte de una comunidad unida que celebra la 
 diversidad y trabaja por un mundo más justo y equitativo.\nEste evento est
 á diseñado para todas las edades y es de entrada gratuita. Queremos que to
 dos los públicos\, desde niños hasta adultos\, se sientan bienvenidos y pu
 edan disfrutar de una noche memorable llena de música\, aprendizaje y refl
 exión.\nNo te pierdas esta oportunidad de vivir una experiencia única. Mar
 ca la fecha en tu calendario y únete a nosotros el Lunes 12 de Julio a las
  19:00H en el Teatro Municipal de Marines. Juntos\, podemos trabajar por u
 n futuro donde la igualdad sea una realidad palpable en todas las esferas 
 de nuestra sociedad. ¡Te esperamos con los brazos abiertos!
DTSTART:20210712T170000Z
DTEND:20210712T170000Z
GEO:+39.674732;-0.561252
LOCATION:Teatro Municipal de Marines
ORGANIZER:
SEQUENCE:1
SUMMARY:Concierto-Charla Trabajando la Igualdad con Nacidos de la Tierra
TRANSP:OPAQUE
URL:https://www.nacidosdelatierra.com/actuaciones/concierto-charla-trabajan
 do-la-igualdad-con-nacidos-de-la-tierra/2021-07-12-19-00.html
END:VEVENT
END:VCALENDAR
