BEGIN:VCALENDAR
VERSION:2.0
PRODID:-//Nacidos de la Tierra//NONSGML kigkonsult.se iCalcreator 2.41.92//
CALSCALE:GREGORIAN
METHOD:PUBLISH
UID:39323932-3132-4330-b766-623536373966
X-WR-CALNAME:iCagenda
X-WR-CALDESC:Event Management Extension for Joomla!
X-WR-RELCALID:3E26604A-50F4-4449-8B3E-E4F4932D05B5
X-WR-TIMEZONE:Europe/Madrid
BEGIN:VTIMEZONE
TZID:Europe/Madrid
TZUNTIL:20260329T010000Z
BEGIN:STANDARD
TZNAME:CET
DTSTART:20231029T030000
TZOFFSETFROM:+0200
TZOFFSETTO:+0100
RDATE:20241027T030000
RDATE:20251026T030000
END:STANDARD
BEGIN:DAYLIGHT
TZNAME:CEST
DTSTART:20240331T020000
TZOFFSETFROM:+0100
TZOFFSETTO:+0200
RDATE:20250330T020000
END:DAYLIGHT
END:VTIMEZONE
BEGIN:VEVENT
UID:64353466-3365-4466-b139-396630396564
DTSTAMP:20260420T030124Z
CATEGORIES:Actuaciones
CLASS:PUBLIC
DESCRIPTION;ALTREP="CID:<FFFF__=0ABBE548DFE235B58f9e8a93d@coffeebean.com>":
 ¡Prepárate para una noche de puro Rap Latino en Valencia! El Sábado 15 de 
 Junio a las 20:00 h\, en la Sala Marbella\, Nacidos de la Tierra se une a 
 destacados talentos como Norick y &nbsp\;Dj Deportado de Rapper School des
 de Perú\, Horus con Dj Figu\, y Mxnsieur.\nDisfruta de una velada llena de
  ritmo y energía\, donde estos grandes artistas compartirán el escenario p
 ara ofrecerte una experiencia musical inolvidable. Desde rimas afiladas ha
 sta beats vibrantes\, este concierto promete emociones fuertes y momentos 
 únicos.\nNo te pierdas la oportunidad de ser parte de este evento imperdib
 le. Adquiere tus entradas anticipadas por solo 15€ y únete a nosotros para
  una noche de buena música y vibras positivas. ¡Te esperamos para una expe
 riencia que no olvidarás!\nEscucha las canciones de los artístas que actua
 rán en el evento a continuación\, no olvides seguir los y agregar las canc
 iones a tus playlists para disfrutarlas siempre que quieras:\n{source}&lt\
 ;div align='center'&gt\;&lt\;iframe style='border-radius:12px' src='https:
 //open.spotify.com/embed/playlist/5eL6yainz7OapB1QNWswdD?utm_source=genera
 tor' width='100%' height='352' frameBorder='0' allowfullscreen='' allow='a
 utoplay\; clipboard-write\; encrypted-media\; fullscreen\; picture-in-pict
 ure' loading='lazy'&gt\;&lt\;/iframe&gt\;&lt\;/div&gt\;{/source}
DTSTART:20240615T180000Z
DTEND:20240615T180000Z
GEO:+39.495617;-0.401146
LOCATION:Sala Marbella
ORGANIZER:
SEQUENCE:1
SUMMARY:Concierto de Rap Latino: Nacidos de la Tierra\, Norick\, Horus y Mx
 nsieur en Valencia
TRANSP:OPAQUE
URL:https://www.nacidosdelatierra.com/actuaciones/concierto-de-rap-latino-n
 acidos-de-la-tierra-norick-horus-y-mxnsieur-en-valencia/2024-06-15-20-00.h
 tml
END:VEVENT
END:VCALENDAR
