BEGIN:VCALENDAR
VERSION:2.0
PRODID:-//Nacidos de la Tierra//NONSGML kigkonsult.se iCalcreator 2.41.92//
CALSCALE:GREGORIAN
METHOD:PUBLISH
UID:32386162-3865-4532-b536-643363316537
X-WR-CALNAME:iCagenda
X-WR-CALDESC:Event Management Extension for Joomla!
X-WR-RELCALID:3E26604A-50F4-4449-8B3E-E4F4932D05B5
X-WR-TIMEZONE:Europe/Madrid
BEGIN:VTIMEZONE
TZID:Europe/Madrid
TZUNTIL:20211031T010000Z
BEGIN:STANDARD
TZNAME:CET
DTSTART:20191027T030000
TZOFFSETFROM:+0200
TZOFFSETTO:+0100
RDATE:20201025T030000
END:STANDARD
BEGIN:DAYLIGHT
TZNAME:CEST
DTSTART:20190331T020000
TZOFFSETFROM:+0100
TZOFFSETTO:+0200
RDATE:20200329T020000
RDATE:20210328T020000
END:DAYLIGHT
END:VTIMEZONE
BEGIN:VEVENT
UID:63633261-3234-4630-a636-333862346539
DTSTAMP:20260420T010020Z
CATEGORIES:Actuaciones
CLASS:PUBLIC
DESCRIPTION;ALTREP="CID:<FFFF__=0ABBE548DFE235B58f9e8a93d@coffeebean.com>":
 ¡No te pierdas la destacada actuación de Nacidos de la Tierra en el #Cuare
 ntenaFest! Únete al festival online organizado por Funk Mamma y disfruta d
 e una entrevista y una emocionante actuación. Únete a nosotros el Viernes 
 27 de Marzo de 2020 a las 22:30\, en este evento que reúne a talentosos ar
 tistas durante el 27 y 30 de Marzo de 2020. Acompáñanos desde la comodidad
  de tu hogar mientras enfrentamos juntos la pandemia del coronavirus. ¡La 
 música nos une incluso en tiempos difíciles!
DTSTART:20200327T213000Z
DTEND:20200327T213000Z
GEO:00;0
LOCATION:
ORGANIZER:
SEQUENCE:1
SUMMARY:#CUARENTENAFEST
TRANSP:OPAQUE
URL:https://www.nacidosdelatierra.com/actuaciones/cuarentenafest/2020-03-27
 -22-30.html
END:VEVENT
END:VCALENDAR
