BEGIN:VCALENDAR
VERSION:2.0
PRODID:-//Nacidos de la Tierra//NONSGML kigkonsult.se iCalcreator 2.41.92//
CALSCALE:GREGORIAN
METHOD:PUBLISH
UID:62633936-6663-4235-b936-356338386233
X-WR-CALNAME:iCagenda
X-WR-CALDESC:Event Management Extension for Joomla!
X-WR-RELCALID:3E26604A-50F4-4449-8B3E-E4F4932D05B5
X-WR-TIMEZONE:Europe/Madrid
BEGIN:VTIMEZONE
TZID:Europe/Madrid
TZUNTIL:20250330T010000Z
BEGIN:STANDARD
TZNAME:CET
DTSTART:20221030T030000
TZOFFSETFROM:+0200
TZOFFSETTO:+0100
RDATE:20231029T030000
RDATE:20241027T030000
END:STANDARD
BEGIN:DAYLIGHT
TZNAME:CEST
DTSTART:20230326T020000
TZOFFSETFROM:+0100
TZOFFSETTO:+0200
RDATE:20240331T020000
END:DAYLIGHT
END:VTIMEZONE
BEGIN:VEVENT
UID:31316135-6335-4265-b738-646134623835
DTSTAMP:20260420T043255Z
CATEGORIES:Actuaciones
CLASS:PUBLIC
DESCRIPTION;ALTREP="CID:<FFFF__=0ABBE548DFE235B58f9e8a93d@coffeebean.com>":
 ¡Únete a la emoción de la Fira d'Agost Xàtiva y vive una experiencia inolv
 idable en el Espai d’animació juvenil corresponsables! Este espacio es esp
 ecialmente diseñado para jóvenes de 12 a 16 años\, donde la diversión sana
  y el ocio positivo se unen para crear un ambiente lleno de valores y apre
 ndizaje.\nLa cita es en la encantadora Glorieta José Espejo\, un lugar al 
 aire libre que nos brindará la oportunidad de disfrutar de talleres y actu
 aciones en un entorno natural y dinámico.\nEl evento comenzará a las 19:00
  h y la diversión no tendrá límites hasta las 24:00 h. Te espera una tarde
  y noche repleta de actividades emocionantes:\n\nTaller RAP (taller d’escr
 iptura rap i freestyle): Si te apasiona la música\, no puedes perderte est
 e taller de escritura de rap y freestyle. Acompañados por los talentosos a
 rtistas de Nacidos de la Tierra y Malparlat\, aprenderemos a crear rimas y
  fluir con la música.\nFotomaton ESTIMA’M BÉ 360º: Inmortaliza momentos ún
 icos con el Fotomaton ESTIMA’M BÉ 360º\, donde capturarás las risas y sonr
 isas compartidas con amigos y nuevos conocidos.\nConcert- Exhibició de Rap
  «RAP EN VALENCIÀ»: El plato fuerte de la noche llega con el apasionante c
 oncierto-exhibición de rap en valenciano. Nacidos de la Tierra y Malparlat
  nos deleitarán con su talento y energía sobre el escenario\, llevando la 
 cultura del hip hop a otro nivel. ¡No podrás dejar de moverte al ritmo de 
 sus letras con propósito!\n\n¡Ven con tus amigos y descubre cómo la música
  y el arte del hip hop pueden inspirar y empoderar a la juventud! Te esper
 amos en la Fira d’Agost Xàtiva\, en el Espai d’animació juvenil correspons
 ables. ¡Será una experiencia inolvidable!
DTSTART:20230818T170000Z
DTEND:20230818T170000Z
GEO:+38.990402;-0.519936
LOCATION:
ORGANIZER:
SEQUENCE:1
SUMMARY:Nacidos de la Tierra + Malparlat en Xàtiva
TRANSP:OPAQUE
URL:https://www.nacidosdelatierra.com/actuaciones/nacidos-de-la-tierra-malp
 arlat-en-xativa/2023-08-18-19-00.html
END:VEVENT
END:VCALENDAR
