BEGIN:VCALENDAR
VERSION:2.0
PRODID:-//Nacidos de la Tierra//NONSGML kigkonsult.se iCalcreator 2.41.92//
CALSCALE:GREGORIAN
METHOD:PUBLISH
UID:31616434-3835-4266-b363-646562363335
X-WR-CALNAME:iCagenda
X-WR-CALDESC:Event Management Extension for Joomla!
X-WR-RELCALID:3E26604A-50F4-4449-8B3E-E4F4932D05B5
X-WR-TIMEZONE:Europe/Madrid
BEGIN:VTIMEZONE
TZID:Europe/Madrid
TZUNTIL:20251026T010000Z
BEGIN:STANDARD
TZNAME:CET
DTSTART:20231029T030000
TZOFFSETFROM:+0200
TZOFFSETTO:+0100
RDATE:20241027T030000
END:STANDARD
BEGIN:DAYLIGHT
TZNAME:CEST
DTSTART:20240331T020000
TZOFFSETFROM:+0100
TZOFFSETTO:+0200
RDATE:20250330T020000
END:DAYLIGHT
END:VTIMEZONE
BEGIN:VEVENT
UID:32323733-6232-4532-b230-306162396166
DTSTAMP:20260420T030124Z
CATEGORIES:Actuaciones
CLASS:PUBLIC
DESCRIPTION;ALTREP="CID:<FFFF__=0ABBE548DFE235B58f9e8a93d@coffeebean.com>":
 El 13 de Abril de 2024 a las 09:00 h\, en EPA L'Eliana\, se llevará a cabo
  una jornada especial dirigida a profesorado y profesionales de la prevenc
 ión social. Durante este evento\, se presentará el proyecto de intervenció
 n 'Creación Musical por el Cambio Social'.\nEste proyecto tiene como objet
 ivo utilizar la música como herramienta para promover el cambio social y l
 a conciencia en la comunidad. La presentación incluirá una explicación det
 allada del proyecto\, sus objetivos y metodología\, así como ejemplos de s
 u aplicación práctica.\nAdemás\, durante la jornada habrá una actuación mu
 sical relacionada con el proyecto\, que mostrará el impacto y el potencial
  de la creación musical como medio de expresión y transformación social de
  la mano de Nacidos de la Tierra.\nNo te pierdas esta oportunidad de conoc
 er y participar en un proyecto innovador que utiliza la música como una po
 derosa herramienta para el cambio en EPA L'Eliana.
DTSTART:20240413T070000Z
DTEND:20240413T070000Z
GEO:+39.564148;-0.533974
LOCATION:EPA L'Eliana
ORGANIZER:
SEQUENCE:1
SUMMARY:Presentación del Proyecto 'Creación Musical por el Cambio Social' e
 n EPA L'Eliana
TRANSP:OPAQUE
URL:https://www.nacidosdelatierra.com/actuaciones/presentacion-del-proyecto
 -creacion-musical-por-el-cambio-social-en-epa-leliana/2024-04-13-09-00.htm
 l
END:VEVENT
END:VCALENDAR
