BEGIN:VCALENDAR
VERSION:2.0
PRODID:-//Nacidos de la Tierra//NONSGML kigkonsult.se iCalcreator 2.41.92//
CALSCALE:GREGORIAN
METHOD:PUBLISH
UID:62306631-3332-4539-a439-396332306636
X-WR-CALNAME:iCagenda
X-WR-CALDESC:Event Management Extension for Joomla!
X-WR-RELCALID:3E26604A-50F4-4449-8B3E-E4F4932D05B5
X-WR-TIMEZONE:Europe/Madrid
BEGIN:VTIMEZONE
TZID:Europe/Madrid
TZUNTIL:20211031T010000Z
BEGIN:STANDARD
TZNAME:CET
DTSTART:20191027T030000
TZOFFSETFROM:+0200
TZOFFSETTO:+0100
RDATE:20201025T030000
END:STANDARD
BEGIN:DAYLIGHT
TZNAME:CEST
DTSTART:20200329T020000
TZOFFSETFROM:+0100
TZOFFSETTO:+0200
RDATE:20210328T020000
END:DAYLIGHT
END:VTIMEZONE
BEGIN:VEVENT
UID:36626266-3961-4466-b637-333937396431
DTSTAMP:20260420T025554Z
CATEGORIES:Actuaciones
CLASS:PUBLIC
DESCRIPTION;ALTREP="CID:<FFFF__=0ABBE548DFE235B58f9e8a93d@coffeebean.com>":
 ¡No te pierdas el emocionante evento del sábado 18 de abril: el MUSIC FEST
 ! Aunque debemos quedarnos en casa\, la música nos conecta. Disfruta de la
 s actuaciones en línea de talentosos artistas como PD Cooba\, Charly Efe\,
  Yung Rajola\, Daura Mangara\, Astrid Canales\, La Palo\, Pupil•les\, La D
 olsa Adela\, Carlicarlaka\, Malparlate\, Tinta\, Fok\, Aka la Bruja\, MDMA
 \, Impaktats y\, por supuesto\, ¡la increíble presentación de Nacidos de l
 a Tierra! Sintoniza y disfruta de este festival organizado por @musicadelp
 v desde la comodidad de tu hogar. ¡La música no tiene límites\, incluso en
  tiempos de pandemia!
DTSTART:20200418T204500Z
DTEND:20200418T204500Z
GEO:00;0
LOCATION:Instagram
ORGANIZER:
SEQUENCE:1
SUMMARY:Queda't a casa Music Fest
TRANSP:OPAQUE
URL:https://www.nacidosdelatierra.com/actuaciones/quedat-a-casa-music-fest/
 2020-04-18-22-45.html
END:VEVENT
END:VCALENDAR
