BEGIN:VCALENDAR
VERSION:2.0
PRODID:-//Nacidos de la Tierra//NONSGML kigkonsult.se iCalcreator 2.41.92//
CALSCALE:GREGORIAN
METHOD:PUBLISH
UID:34333234-3031-4633-b236-343830613834
X-WR-CALNAME:iCagenda
X-WR-CALDESC:Event Management Extension for Joomla!
X-WR-RELCALID:3E26604A-50F4-4449-8B3E-E4F4932D05B5
X-WR-TIMEZONE:Europe/Madrid
BEGIN:VTIMEZONE
TZID:Europe/Madrid
TZUNTIL:20271031T010000Z
BEGIN:STANDARD
TZNAME:CET
DTSTART:20251026T030000
TZOFFSETFROM:+0200
TZOFFSETTO:+0100
RDATE:20261025T030000
END:STANDARD
BEGIN:DAYLIGHT
TZNAME:CEST
DTSTART:20250330T020000
TZOFFSETFROM:+0100
TZOFFSETTO:+0200
RDATE:20260329T020000
RDATE:20270328T020000
END:DAYLIGHT
END:VTIMEZONE
BEGIN:VEVENT
UID:39663833-6635-4565-a334-313235343062
DTSTAMP:20260419T201107Z
CATEGORIES:Actuaciones
CLASS:PUBLIC
DESCRIPTION;ALTREP="CID:<FFFF__=0ABBE548DFE235B58f9e8a93d@coffeebean.com>":
 &nbsp\;ATENCIÓN - APLAZADO AL 21 de MARZO&nbsp\;\nDespués de lo que vivimo
 s en el 1er Encuentro Urbano… no podíamos quedarnos ahí.\nSedaví vibró con
  una tarde llena de energía\, comunidad y Cultura Hip Hop real. Risas\, ap
 rendizajes\, juventud compartiendo espacio\, familias disfrutando juntas y
  un ambiente que demostró que cuando hay Paz\, Amor\, Unidad y Diversión\,
  pasan cosas grandes.\nEl próximo 7 de marzo volvemos con el 2º Encuentro 
 Urbano de Sedaví\, y lo hacemos con más ganas que nunca.\nDurante dos hora
 s el parque frente al CEIP Vicente Pla Paredes se convertirá en un espacio
  vivo donde podrás disfrutar de:\n\nParkour\nGraffiti\nSkate\nBreak Dance
 \nRap\nHip Hop Dance\nMúsica\n\nUn evento gratuito y abierto a todas las e
 dades\, pensado para que la juventud tenga un espacio de expresión\, movim
 iento y creatividad\, y para que las familias puedan compartir una experie
 ncia diferente.\nSi en el primero lo pasamos brutal\, este va a ser todaví
 a más grande.Adjuntaremos el reel del 1er Encuentro para que puedas revivi
 r lo que se vivió… y venir con más ganas todavía\n{source}&lt\;blockquote 
 class='instagram-media' data-instgrm-captioned data-instgrm-permalink='htt
 ps://www.instagram.com/reel/DVT5tcPjPk9/?utm_source=ig_embed&amp\;amp\;utm
 _campaign=loading' data-instgrm-version='14' style=' background:#FFF\; bor
 der:0\; border-radius:3px\; box-shadow:0 0 1px 0 rgba(0\,0\,0\,0.5)\,0 1px
  10px 0 rgba(0\,0\,0\,0.15)\; margin: 1px\; max-width:540px\; min-width:32
 6px\; padding:0\; width:99.375%\; width:-webkit-calc(100% - 2px)\; width:c
 alc(100% - 2px)\;'&gt\;&lt\;div style='padding:16px\;'&gt\; &lt\;a href='h
 ttps://www.instagram.com/reel/DVT5tcPjPk9/?utm_source=ig_embed&amp\;amp\;u
 tm_campaign=loading' style=' background:#FFFFFF\; line-height:0\; padding:
 0 0\; text-align:center\; text-decoration:none\; width:100%\;' target='_bl
 ank'&gt\; &lt\;div style=' display: flex\; flex-direction: row\; align-ite
 ms: center\;'&gt\; &lt\;div style='background-color: #F4F4F4\; border-radi
 us: 50%\; flex-grow: 0\; height: 40px\; margin-right: 14px\; width: 40px\;
 '&gt\;&lt\;/div&gt\; &lt\;div style='display: flex\; flex-direction: colum
 n\; flex-grow: 1\; justify-content: center\;'&gt\; &lt\;div style=' backgr
 ound-color: #F4F4F4\; border-radius: 4px\; flex-grow: 0\; height: 14px\; m
 argin-bottom: 6px\; width: 100px\;'&gt\;&lt\;/div&gt\; &lt\;div style=' ba
 ckground-color: #F4F4F4\; border-radius: 4px\; flex-grow: 0\; height: 14px
 \; width: 60px\;'&gt\;&lt\;/div&gt\;&lt\;/div&gt\;&lt\;/div&gt\;&lt\;div s
 tyle='padding: 19% 0\;'&gt\;&lt\;/div&gt\; &lt\;div style='display:block\;
  height:50px\; margin:0 auto 12px\; width:50px\;'&gt\;&lt\;svg width='50px
 ' height='50px' viewBox='0 0 60 60' version='1.1' xmlns='https://www.w3.or
 g/2000/svg' xmlns:xlink='https://www.w3.org/1999/xlink'&gt\;&lt\;g stroke=
 'none' stroke-width='1' fill='none' fill-rule='evenodd'&gt\;&lt\;g transfo
 rm='translate(-511.000000\, -20.000000)' fill='#000000'&gt\;&lt\;g&gt\;&lt
 \;path d='M556.869\,30.41 C554.814\,30.41 553.148\,32.076 553.148\,34.131 
 C553.148\,36.186 554.814\,37.852 556.869\,37.852 C558.924\,37.852 560.59\,
 36.186 560.59\,34.131 C560.59\,32.076 558.924\,30.41 556.869\,30.41 M541\,
 60.657 C535.114\,60.657 530.342\,55.887 530.342\,50 C530.342\,44.114 535.1
 14\,39.342 541\,39.342 C546.887\,39.342 551.658\,44.114 551.658\,50 C551.6
 58\,55.887 546.887\,60.657 541\,60.657 M541\,33.886 C532.1\,33.886 524.886
 \,41.1 524.886\,50 C524.886\,58.899 532.1\,66.113 541\,66.113 C549.9\,66.1
 13 557.115\,58.899 557.115\,50 C557.115\,41.1 549.9\,33.886 541\,33.886 M5
 65.378\,62.101 C565.244\,65.022 564.756\,66.606 564.346\,67.663 C563.803\,
 69.06 563.154\,70.057 562.106\,71.106 C561.058\,72.155 560.06\,72.803 558.
 662\,73.347 C557.607\,73.757 556.021\,74.244 553.102\,74.378 C549.944\,74.
 521 548.997\,74.552 541\,74.552 C533.003\,74.552 532.056\,74.521 528.898\,
 74.378 C525.979\,74.244 524.393\,73.757 523.338\,73.347 C521.94\,72.803 52
 0.942\,72.155 519.894\,71.106 C518.846\,70.057 518.197\,69.06 517.654\,67.
 663 C517.244\,66.606 516.755\,65.022 516.623\,62.101 C516.479\,58.943 516.
 448\,57.996 516.448\,50 C516.448\,42.003 516.479\,41.056 516.623\,37.899 C
 516.755\,34.978 517.244\,33.391 517.654\,32.338 C518.197\,30.938 518.846\,
 29.942 519.894\,28.894 C520.942\,27.846 521.94\,27.196 523.338\,26.654 C52
 4.393\,26.244 525.979\,25.756 528.898\,25.623 C532.057\,25.479 533.004\,25
 .448 541\,25.448 C548.997\,25.448 549.943\,25.479 553.102\,25.623 C556.021
 \,25.756 557.607\,26.244 558.662\,26.654 C560.06\,27.196 561.058\,27.846 5
 62.106\,28.894 C563.154\,29.942 563.803\,30.938 564.346\,32.338 C564.756\,
 33.391 565.244\,34.978 565.378\,37.899 C565.522\,41.056 565.552\,42.003 56
 5.552\,50 C565.552\,57.996 565.522\,58.943 565.378\,62.101 M570.82\,37.631
  C570.674\,34.438 570.167\,32.258 569.425\,30.349 C568.659\,28.377 567.633
 \,26.702 565.965\,25.035 C564.297\,23.368 562.623\,22.342 560.652\,21.575 
 C558.743\,20.834 556.562\,20.326 553.369\,20.18 C550.169\,20.033 549.148\,
 20 541\,20 C532.853\,20 531.831\,20.033 528.631\,20.18 C525.438\,20.326 52
 3.257\,20.834 521.349\,21.575 C519.376\,22.342 517.703\,23.368 516.035\,25
 .035 C514.368\,26.702 513.342\,28.377 512.574\,30.349 C511.834\,32.258 511
 .326\,34.438 511.181\,37.631 C511.035\,40.831 511\,41.851 511\,50 C511\,58
 .147 511.035\,59.17 511.181\,62.369 C511.326\,65.562 511.834\,67.743 512.5
 74\,69.651 C513.342\,71.625 514.368\,73.296 516.035\,74.965 C517.703\,76.6
 34 519.376\,77.658 521.349\,78.425 C523.257\,79.167 525.438\,79.673 528.63
 1\,79.82 C531.831\,79.965 532.853\,80.001 541\,80.001 C549.148\,80.001 550
 .169\,79.965 553.369\,79.82 C556.562\,79.673 558.743\,79.167 560.652\,78.4
 25 C562.623\,77.658 564.297\,76.634 565.965\,74.965 C567.633\,73.296 568.6
 59\,71.625 569.425\,69.651 C570.167\,67.743 570.674\,65.562 570.82\,62.369
  C570.966\,59.17 571\,58.147 571\,50 C571\,41.851 570.966\,40.831 570.82\,
 37.631'&gt\;&lt\;/path&gt\;&lt\;/g&gt\;&lt\;/g&gt\;&lt\;/g&gt\;&lt\;/svg&g
 t\;&lt\;/div&gt\;&lt\;div style='padding-top: 8px\;'&gt\; &lt\;div style='
  color:#3897f0\; font-family:Arial\,sans-serif\; font-size:14px\; font-sty
 le:normal\; font-weight:550\; line-height:18px\;'&gt\;Ver esta publicación
  en Instagram&lt\;/div&gt\;&lt\;/div&gt\;&lt\;div style='padding: 12.5% 0\
 ;'&gt\;&lt\;/div&gt\; &lt\;div style='display: flex\; flex-direction: row\
 ; margin-bottom: 14px\; align-items: center\;'&gt\;&lt\;div&gt\; &lt\;div 
 style='background-color: #F4F4F4\; border-radius: 50%\; height: 12.5px\; w
 idth: 12.5px\; transform: translateX(0px) translateY(7px)\;'&gt\;&lt\;/div
 &gt\; &lt\;div style='background-color: #F4F4F4\; height: 12.5px\; transfo
 rm: rotate(-45deg) translateX(3px) translateY(1px)\; width: 12.5px\; flex-
 grow: 0\; margin-right: 14px\; margin-left: 2px\;'&gt\;&lt\;/div&gt\; &lt\
 ;div style='background-color: #F4F4F4\; border-radius: 50%\; height: 12.5p
 x\; width: 12.5px\; transform: translateX(9px) translateY(-18px)\;'&gt\;&l
 t\;/div&gt\;&lt\;/div&gt\;&lt\;div style='margin-left: 8px\;'&gt\; &lt\;di
 v style=' background-color: #F4F4F4\; border-radius: 50%\; flex-grow: 0\; 
 height: 20px\; width: 20px\;'&gt\;&lt\;/div&gt\; &lt\;div style=' width: 0
 \; height: 0\; border-top: 2px solid transparent\; border-left: 6px solid 
 #f4f4f4\; border-bottom: 2px solid transparent\; transform: translateX(16p
 x) translateY(-4px) rotate(30deg)'&gt\;&lt\;/div&gt\;&lt\;/div&gt\;&lt\;di
 v style='margin-left: auto\;'&gt\; &lt\;div style=' width: 0px\; border-to
 p: 8px solid #F4F4F4\; border-right: 8px solid transparent\; transform: tr
 anslateY(16px)\;'&gt\;&lt\;/div&gt\; &lt\;div style=' background-color: #F
 4F4F4\; flex-grow: 0\; height: 12px\; width: 16px\; transform: translateY(
 -4px)\;'&gt\;&lt\;/div&gt\; &lt\;div style=' width: 0\; height: 0\; border
 -top: 8px solid #F4F4F4\; border-left: 8px solid transparent\; transform: 
 translateY(-4px) translateX(8px)\;'&gt\;&lt\;/div&gt\;&lt\;/div&gt\;&lt\;/
 div&gt\; &lt\;div style='display: flex\; flex-direction: column\; flex-gro
 w: 1\; justify-content: center\; margin-bottom: 24px\;'&gt\; &lt\;div styl
 e=' background-color: #F4F4F4\; border-radius: 4px\; flex-grow: 0\; height
 : 14px\; margin-bottom: 6px\; width: 224px\;'&gt\;&lt\;/div&gt\; &lt\;div 
 style=' background-color: #F4F4F4\; border-radius: 4px\; flex-grow: 0\; he
 ight: 14px\; width: 144px\;'&gt\;&lt\;/div&gt\;&lt\;/div&gt\;&lt\;/a&gt\;&
 lt\;p style=' color:#c9c8cd\; font-family:Arial\,sans-serif\; font-size:14
 px\; line-height:17px\; margin-bottom:0\; margin-top:8px\; overflow:hidden
 \; padding:8px 0 7px\; text-align:center\; text-overflow:ellipsis\; white-
 space:nowrap\;'&gt\;&lt\;a href='https://www.instagram.com/reel/DVT5tcPjPk
 9/?utm_source=ig_embed&amp\;amp\;utm_campaign=loading' style=' color:#c9c8
 cd\; font-family:Arial\,sans-serif\; font-size:14px\; font-style:normal\; 
 font-weight:normal\; line-height:17px\; text-decoration:none\;' target='_b
 lank'&gt\;Una publicación compartida de Nacidos de la Tierra (@nacidosdela
 tierra)&lt\;/a&gt\;&lt\;/p&gt\;&lt\;/div&gt\;&lt\;/blockquote&gt\;&lt\;scr
 ipt async src='//www.instagram.com/embed.js'&gt\;&lt\;/script&gt\;{/source
 }.\nNos vemos en la calle\, donde la Cultura late.
DTSTART:20260307T160000Z
DTEND:20260307T160000Z
GEO:+39.425835;-0.378011
LOCATION:Parque frente al CEIP Vicente Pla Paredes
ORGANIZER:
SEQUENCE:1
SUMMARY:2º Encuentro Urbano – Sedaví - APLAZADO 21 MARZO
TRANSP:OPAQUE
URL:https://www.nacidosdelatierra.com/eventos/2o-encuentro-urbano-sedavi/20
 26-03-07-17-00.html
END:VEVENT
END:VCALENDAR
