BEGIN:VCALENDAR
VERSION:2.0
PRODID:-//Nacidos de la Tierra//NONSGML kigkonsult.se iCalcreator 2.41.92//
CALSCALE:GREGORIAN
METHOD:PUBLISH
UID:37633430-6337-4736-a266-363638623337
X-WR-CALNAME:iCagenda
X-WR-CALDESC:Event Management Extension for Joomla!
X-WR-RELCALID:3E26604A-50F4-4449-8B3E-E4F4932D05B5
X-WR-TIMEZONE:Europe/Madrid
BEGIN:VTIMEZONE
TZID:Europe/Madrid
TZUNTIL:20261025T010000Z
BEGIN:STANDARD
TZNAME:CET
DTSTART:20241027T030000
TZOFFSETFROM:+0200
TZOFFSETTO:+0100
RDATE:20251026T030000
END:STANDARD
BEGIN:DAYLIGHT
TZNAME:CEST
DTSTART:20240331T020000
TZOFFSETFROM:+0100
TZOFFSETTO:+0200
RDATE:20250330T020000
RDATE:20260329T020000
END:DAYLIGHT
END:VTIMEZONE
BEGIN:VEVENT
UID:62333666-6262-4335-a662-326232383037
DTSTAMP:20260419T201227Z
CATEGORIES:Talleres y cursos
CLASS:PUBLIC
DESCRIPTION;ALTREP="CID:<FFFF__=0ABBE548DFE235B58f9e8a93d@coffeebean.com>":
 El próximo año llega 'ACTIVANDO CON HIP HOP'\, un proyecto diseñado especi
 almente para personas mayores en el Centre Social Senabre\, Valencia. Del 
 13 de enero al 24 de febrero de 2025\, cada lunes de 9:30 a 11:30 h\, expl
 oraremos el poder transformador de la cultura Hip Hop mediante sesiones de
  Rap y Danza Urbana.\nEste taller tiene como objetivo fomentar la particip
 ación activa y la conexión social\, al mismo tiempo que promueve la salud 
 física y emocional a través de la música y el movimiento. Las sesiones est
 án adaptadas a las necesidades y capacidades del grupo\, ofreciendo una ex
 periencia accesible y enriquecedora para descubrir nuevas formas de expres
 ión y disfrutar de una vida activa.\nGuiados por el equipo de Nacidos de l
 a Tierra\, los y las participantes tendrán la oportunidad de aprender técn
 icas básicas de Rap\, escribir sus propias rimas\, moverse al ritmo de la 
 música y\, sobre todo\, compartir momentos únicos en un espacio de creativ
 idad y comunidad.
DTSTART:20250224T083000Z
DTEND:20250224T103000Z
GEO:+39.453209;-0.389149
LOCATION:Centre Social Senabre
ORGANIZER:
SEQUENCE:1
SUMMARY:'ACTIVANDO CON HIP HOP' para Personas Mayores en Valencia
TRANSP:OPAQUE
URL:https://www.nacidosdelatierra.com/eventos/activando-con-hip-hop-para-pe
 rsonas-mayores-en-valencia/2025-02-24-09-30.html
END:VEVENT
END:VCALENDAR
