BEGIN:VCALENDAR
VERSION:2.0
PRODID:-//Nacidos de la Tierra//NONSGML kigkonsult.se iCalcreator 2.41.92//
CALSCALE:GREGORIAN
METHOD:PUBLISH
UID:63323734-3066-4532-a261-353765363037
X-WR-CALNAME:iCagenda
X-WR-CALDESC:Event Management Extension for Joomla!
X-WR-RELCALID:3E26604A-50F4-4449-8B3E-E4F4932D05B5
X-WR-TIMEZONE:Europe/Madrid
BEGIN:VTIMEZONE
TZID:Europe/Madrid
TZUNTIL:20271031T010000Z
BEGIN:STANDARD
TZNAME:CET
DTSTART:20251026T030000
TZOFFSETFROM:+0200
TZOFFSETTO:+0100
RDATE:20261025T030000
END:STANDARD
BEGIN:DAYLIGHT
TZNAME:CEST
DTSTART:20250330T020000
TZOFFSETFROM:+0100
TZOFFSETTO:+0200
RDATE:20260329T020000
RDATE:20270328T020000
END:DAYLIGHT
END:VTIMEZONE
BEGIN:VEVENT
UID:66366138-6239-4933-b236-616533306364
DTSTAMP:20260419T232810Z
CATEGORIES:Talleres y cursos
CLASS:PUBLIC
DESCRIPTION;ALTREP="CID:<FFFF__=0ABBE548DFE235B58f9e8a93d@coffeebean.com>":
 Esta actividad ofrece una&nbsp\;introducción al Break Dance&nbsp\;de la ma
 no de&nbsp\;Foves (Supremos Crew)\, referente de la escena breaking a nive
 l nacional. Una oportunidad única para que la juventud se acerque a esta d
 isciplina fundamental de la cultura Hip Hop desde una perspectiva educativ
 a\, artística y deportiva.\nDurante la sesión se trabajarán&nbsp\;pasos bá
 sicos\, nociones de&nbsp\;musicalidad\, coordinación y control corporal\, 
 animando a cada persona participante a desarrollar su&nbsp\;estilo persona
 l&nbsp\;y su forma de expresión a través del movimiento.\nMás allá del apr
 endizaje técnico\, el Break Dance se utiliza como herramienta para transmi
 tir los&nbsp\;valores del Hip Hop: Paz\, Amor\, Respeto\, Unidad y Diversi
 ón. La actividad se desarrolla en un entorno seguro y motivador que foment
 a la confianza\, la participación y el disfrute colectivo.\nUna experienci
 a ideal para iniciarse en el breaking y conectar con la cultura urbana des
 de el movimiento y la creatividad.\n{convertforms 21}
DTSTART:20260209T163000Z
DTEND:20260209T163000Z
GEO:+39.422394;-0.378395
LOCATION:Polideportivo de Sedaví – Sala de espejos (Club de Karate)
ORGANIZER:
SEQUENCE:1
SUMMARY:Break Dance con Foves (Supremos Crew)
TRANSP:OPAQUE
URL:https://www.nacidosdelatierra.com/eventos/break-dance-con-foves-supremo
 s-crew/2026-02-09-17-30.html
END:VEVENT
END:VCALENDAR
