BEGIN:VCALENDAR
VERSION:2.0
PRODID:-//Nacidos de la Tierra//NONSGML kigkonsult.se iCalcreator 2.41.92//
CALSCALE:GREGORIAN
METHOD:PUBLISH
UID:33643234-6130-4538-a436-373766623137
X-WR-CALNAME:iCagenda
X-WR-CALDESC:Event Management Extension for Joomla!
X-WR-RELCALID:3E26604A-50F4-4449-8B3E-E4F4932D05B5
X-WR-TIMEZONE:Europe/Madrid
BEGIN:VTIMEZONE
TZID:Europe/Madrid
TZUNTIL:20260329T010000Z
BEGIN:STANDARD
TZNAME:CET
DTSTART:20231029T030000
TZOFFSETFROM:+0200
TZOFFSETTO:+0100
RDATE:20241027T030000
RDATE:20251026T030000
END:STANDARD
BEGIN:DAYLIGHT
TZNAME:CEST
DTSTART:20240331T020000
TZOFFSETFROM:+0100
TZOFFSETTO:+0200
RDATE:20250330T020000
END:DAYLIGHT
END:VTIMEZONE
BEGIN:VEVENT
UID:30363935-3561-4738-b437-353665356333
DTSTAMP:20260420T010306Z
CATEGORIES:Talleres y cursos
CLASS:PUBLIC
DESCRIPTION;ALTREP="CID:<FFFF__=0ABBE548DFE235B58f9e8a93d@coffeebean.com>":
 Únete al Campus Infantil 'El planeta: nuestro hogar' en el Polideportivo M
 unicipal de Marines\, disponible en dos quincenas: del 24 de Junio al 12 d
 e Julio y del 15 de Julio al 26 de Julio. Con un horario de 09:00 a 14:00 
 h (también con opción de Matinera desde las 8 de la mañana)\, este campus 
 está diseñado para el alumnado infantil\, ofreciéndoles un recorrido por d
 iferentes temáticas de creación y juego enfocadas en el cuidado del medio 
 ambiente y el bienestar individual y grupal.\nDurante el campus disfrutará
 n de actividades como juegos de agua\, gymcanas temáticas\, talleres de ar
 te reciclado\, cocina creativa\, deportes urbanos como parkour y skate\, y
  sesiones de baile. El objetivo es reciclarlo todo\, fomentando una huella
  ecológica muy pequeña mientras se divierten y aprenden.\nNo te pierdas la
  oportunidad de inscribir a tus pequeños/as en una experiencia educativa y
  divertida que promueve valores de sostenibilidad y colaboración.
DTSTART:20240705T070000Z
DTEND:20240705T120000Z
GEO:+39.674812;-0.556581
LOCATION:Polideportivo de Marines
ORGANIZER:
SEQUENCE:1
SUMMARY:Campus Infantil 'El planeta: nuestro hogar'
TRANSP:OPAQUE
URL:https://www.nacidosdelatierra.com/eventos/campus-infantil-el-planeta-nu
 estro-hogar/2024-07-05-09-00.html
END:VEVENT
END:VCALENDAR
