BEGIN:VCALENDAR
VERSION:2.0
PRODID:-//Nacidos de la Tierra//NONSGML kigkonsult.se iCalcreator 2.41.92//
CALSCALE:GREGORIAN
METHOD:PUBLISH
UID:30356535-3233-4132-b030-656433656237
X-WR-CALNAME:iCagenda
X-WR-CALDESC:Event Management Extension for Joomla!
X-WR-RELCALID:3E26604A-50F4-4449-8B3E-E4F4932D05B5
X-WR-TIMEZONE:Europe/Madrid
BEGIN:VTIMEZONE
TZID:Europe/Madrid
TZUNTIL:20250330T010000Z
BEGIN:STANDARD
TZNAME:CET
DTSTART:20221030T030000
TZOFFSETFROM:+0200
TZOFFSETTO:+0100
RDATE:20231029T030000
RDATE:20241027T030000
END:STANDARD
BEGIN:DAYLIGHT
TZNAME:CEST
DTSTART:20230326T020000
TZOFFSETFROM:+0100
TZOFFSETTO:+0200
RDATE:20240331T020000
END:DAYLIGHT
END:VTIMEZONE
BEGIN:VEVENT
UID:64616238-6261-4435-b232-356636316662
DTSTAMP:20260420T025635Z
CATEGORIES:Talleres y cursos
CLASS:PUBLIC
DESCRIPTION;ALTREP="CID:<FFFF__=0ABBE548DFE235B58f9e8a93d@coffeebean.com>":
 ¡Únete a nuestro emocionante Campus Jove en Náquera durante el mes de sept
 iembre! Durante los días 1\, 4\, 5\, 6\, 7 y 8\, estaremos llevando a cabo
  un campus de conciliación que fusiona arte y cultura urbana. ¿Estás listo
 /a para sumergirte en una semana llena de diversión y creatividad?\nEn el 
 CEIP Emilio Lluch\, los/as jóvenes tendrán la oportunidad de explorar una 
 variedad de actividades que promueven valores positivos a través del arte 
 y la cultura urbana. Desde Danza Urbana y Rap hasta Parkour\, Skate\, Gymc
 anas y mucho más\, nuestra programación está diseñada para inspirar\, empo
 derar y fomentar la expresión personal.\nCada día de este campus será una 
 aventura emocionante\, donde los/as participantes podrán descubrir nuevos 
 talentos\, aprender habilidades únicas y conectarse con otros/as jóvenes a
 pasionados/as por la cultura urbana. Nuestro equipo de expertos/as guiará 
 a los/as asistentes a través de diversas actividades que no solo son diver
 tidas\, sino que también ayudan a construir confianza\, trabajo en equipo 
 y resiliencia.\n¡Lo mejor de todo es que esta experiencia es completamente
  gratuita! (Plazas limitadas\, inscríbete en el ayuntamiento de Náquera) A
 sí que ven y únete a nosotros/as en el CEIP Emilio Lluch para una semana i
 nolvidable llena de arte\, música\, movimiento y camaradería.
DTSTART:20230907T110200Z
DTEND:20230907T110200Z
GEO:+39.660694;-0.429225
LOCATION:CEIP Emilio Lluch\, Náquera.
ORGANIZER:
SEQUENCE:1
SUMMARY:Campus Jove Septiembre Náquera
TRANSP:OPAQUE
URL:https://www.nacidosdelatierra.com/eventos/campus-jove-septiembre-naquer
 a/2023-09-07-13-02.html
END:VEVENT
END:VCALENDAR
