BEGIN:VCALENDAR
VERSION:2.0
PRODID:-//Nacidos de la Tierra//NONSGML kigkonsult.se iCalcreator 2.41.92//
CALSCALE:GREGORIAN
METHOD:PUBLISH
UID:61316337-3265-4735-a562-653437353164
X-WR-CALNAME:iCagenda
X-WR-CALDESC:Event Management Extension for Joomla!
X-WR-RELCALID:3E26604A-50F4-4449-8B3E-E4F4932D05B5
X-WR-TIMEZONE:Europe/Madrid
BEGIN:VTIMEZONE
TZID:Europe/Madrid
TZUNTIL:20251026T010000Z
BEGIN:STANDARD
TZNAME:CET
DTSTART:20231029T030000
TZOFFSETFROM:+0200
TZOFFSETTO:+0100
RDATE:20241027T030000
END:STANDARD
BEGIN:DAYLIGHT
TZNAME:CEST
DTSTART:20240331T020000
TZOFFSETFROM:+0100
TZOFFSETTO:+0200
RDATE:20250330T020000
END:DAYLIGHT
END:VTIMEZONE
BEGIN:VEVENT
UID:64393234-3436-4234-b361-376566306639
DTSTAMP:20260420T011359Z
CATEGORIES:Talleres y cursos
CLASS:PUBLIC
DESCRIPTION;ALTREP="CID:<FFFF__=0ABBE548DFE235B58f9e8a93d@coffeebean.com>":
 Descubre el poder del Rap Positivo en el CEIP Blasco Ibañez\, Aldaia. Este
  taller\, dirigido por Kasú y Meser de Nacidos de la Tierra\, se llevará a
  cabo los días 18 y 25 de Abril de 2024\, de 15:00 a 17:00 h.\nEl alumnado
  de 6to de primaria tendrá la oportunidad de sumergirse en el mundo del ra
 p\, explorando la creación y grabación de una canción colectiva intercentr
 os. Bajo la guía experta de Kasú y Meser\, los participantes aprenderán lo
 s fundamentos del rap y trabajarán juntos para transmitir mensajes positiv
 os y empoderadores a través de la música.\nEste taller promueve la creativ
 idad\, el trabajo en equipo y la autoexpresión\, brindando una experiencia
  educativa enriquecedora y divertida para el alumnado del CEIP Blasco Ibañ
 ez.
DTSTART:20240425T130000Z
DTEND:20240425T130000Z
GEO:+39.472275;-0.460193
LOCATION:CEIP Blasco Ibañez
ORGANIZER:
SEQUENCE:1
SUMMARY:¡Crea y Inspírate con el Taller de Rap Positivo en CEIP Blasco Ibañ
 ez\, Aldaia!
TRANSP:OPAQUE
URL:https://www.nacidosdelatierra.com/eventos/crea-y-inspirate-con-el-talle
 r-de-rap-positivo-en-ceip-blasco-ibanez-aldaia/2024-04-25-15-00.html
END:VEVENT
END:VCALENDAR
