BEGIN:VCALENDAR
VERSION:2.0
PRODID:-//Nacidos de la Tierra//NONSGML kigkonsult.se iCalcreator 2.41.92//
CALSCALE:GREGORIAN
METHOD:PUBLISH
UID:63366236-3762-4132-b530-346565376534
X-WR-CALNAME:iCagenda
X-WR-CALDESC:Event Management Extension for Joomla!
X-WR-RELCALID:3E26604A-50F4-4449-8B3E-E4F4932D05B5
X-WR-TIMEZONE:Europe/Madrid
BEGIN:VTIMEZONE
TZID:Europe/Madrid
TZUNTIL:20271031T010000Z
BEGIN:STANDARD
TZNAME:CET
DTSTART:20251026T030000
TZOFFSETFROM:+0200
TZOFFSETTO:+0100
RDATE:20261025T030000
END:STANDARD
BEGIN:DAYLIGHT
TZNAME:CEST
DTSTART:20250330T020000
TZOFFSETFROM:+0100
TZOFFSETTO:+0200
RDATE:20260329T020000
RDATE:20270328T020000
END:DAYLIGHT
END:VTIMEZONE
BEGIN:VEVENT
UID:65643132-3331-4565-b961-633532336262
DTSTAMP:20260419T201122Z
CATEGORIES:Talleres y cursos
CLASS:PUBLIC
DESCRIPTION;ALTREP="CID:<FFFF__=0ABBE548DFE235B58f9e8a93d@coffeebean.com>":
 Durante los días 29 y 30 de diciembre de 2025\, Alfafar acoge el proyecto&
 nbsp\;“Creación Musical Urbana”\, una propuesta cultural y educativa centr
 ada en el&nbsp\;Rap como herramienta de expresión\, reflexión y cohesión c
 omunitaria\, impulsada por&nbsp\;Kasú y Meser de Nacidos de la Tierra.\nLa
  actividad se estructura en dos jornadas complementarias.El&nbsp\;lunes 29
  de diciembre\, se realizará un&nbsp\;Taller de Rap&nbsp\;en el Edificio S
 anchis Guarner\, donde las personas participantes trabajarán la&nbsp\;escr
 itura creativa de letras\, utilizando la música como canal para expresar e
 mociones\, compartir vivencias y abordar valores como el respeto\, la empa
 tía y la convivencia.\nEl&nbsp\;martes 30 de diciembre\, el proyecto se tr
 aslada al espacio público con un&nbsp\;Encuentro Urbano al aire libre&nbsp
 \;en la Plaza Poeta Miguel Hernández. Esta sesión permitirá continuar el p
 roceso creativo iniciado el día anterior\, generando un espacio abierto\, 
 familiar y cercano\, donde reflexionar colectivamente sobre&nbsp\;temática
 s de interés para la población del municipio\, reforzando el sentimiento d
 e comunidad y participación ciudadana.\nA través del Rap\, la escritura y 
 el diálogo\, esta propuesta fomenta la&nbsp\;expresión individual y colect
 iva\, el pensamiento crítico y el uso positivo de la cultura urbana como h
 erramienta de transformación social\, en un ambiente accesible y abierto a
  todo tipo de público.
DTSTART:20251229T100000Z
DTEND:20251230T120000Z
GEO:+39.4156;-0.398679
LOCATION:Edificio Sanchis Guarner
ORGANIZER:
SEQUENCE:1
SUMMARY:Creación Musical Urbana en Alfafar: Rap\, Emociones y Comunidad
TRANSP:OPAQUE
URL:https://www.nacidosdelatierra.com/eventos/creacion-musical-urbana-en-al
 fafar-rap-emociones-y-comunidad.html
END:VEVENT
END:VCALENDAR
