BEGIN:VCALENDAR
VERSION:2.0
PRODID:-//Nacidos de la Tierra//NONSGML kigkonsult.se iCalcreator 2.41.92//
CALSCALE:GREGORIAN
METHOD:PUBLISH
UID:37643134-3439-4131-b031-623835393664
X-WR-CALNAME:iCagenda
X-WR-CALDESC:Event Management Extension for Joomla!
X-WR-RELCALID:3E26604A-50F4-4449-8B3E-E4F4932D05B5
X-WR-TIMEZONE:Europe/Madrid
BEGIN:VTIMEZONE
TZID:Europe/Madrid
TZUNTIL:20240331T010000Z
BEGIN:STANDARD
TZNAME:CET
DTSTART:20211031T030000
TZOFFSETFROM:+0200
TZOFFSETTO:+0100
RDATE:20221030T030000
RDATE:20231029T030000
END:STANDARD
BEGIN:DAYLIGHT
TZNAME:CEST
DTSTART:20220327T020000
TZOFFSETFROM:+0100
TZOFFSETTO:+0200
RDATE:20230326T020000
END:DAYLIGHT
END:VTIMEZONE
BEGIN:VEVENT
UID:38633133-6639-4332-b863-356564613165
DTSTAMP:20260420T025220Z
CATEGORIES:Talleres y cursos
CLASS:PUBLIC
DESCRIPTION;ALTREP="CID:<FFFF__=0ABBE548DFE235B58f9e8a93d@coffeebean.com>":
 Aprende cómo crear canciones desde cero\, en este curso completo aprenderá
 s desde cómo crear la letra\, música y cómo grabar la canción sin necesida
 d de acudir a ningún estudio de grabación.\n
DTSTART:20220615T150000Z
DTEND:20220615T150000Z
GEO:00;0
LOCATION:On Line
ORGANIZER:
SEQUENCE:1
SUMMARY:Curso de Creación Musical On Line
TRANSP:OPAQUE
URL:https://www.nacidosdelatierra.com/eventos/curso-de-creacion-musical-on-
 line/2022-06-15-17-00.html
END:VEVENT
END:VCALENDAR
