BEGIN:VCALENDAR
VERSION:2.0
PRODID:-//Nacidos de la Tierra//NONSGML kigkonsult.se iCalcreator 2.41.92//
CALSCALE:GREGORIAN
METHOD:PUBLISH
UID:64383163-6666-4636-a361-343335643136
X-WR-CALNAME:iCagenda
X-WR-CALDESC:Event Management Extension for Joomla!
X-WR-RELCALID:3E26604A-50F4-4449-8B3E-E4F4932D05B5
X-WR-TIMEZONE:Europe/Madrid
BEGIN:VTIMEZONE
TZID:Europe/Madrid
TZUNTIL:20260329T010000Z
BEGIN:STANDARD
TZNAME:CET
DTSTART:20231029T030000
TZOFFSETFROM:+0200
TZOFFSETTO:+0100
RDATE:20241027T030000
RDATE:20251026T030000
END:STANDARD
BEGIN:DAYLIGHT
TZNAME:CEST
DTSTART:20240331T020000
TZOFFSETFROM:+0100
TZOFFSETTO:+0200
RDATE:20250330T020000
END:DAYLIGHT
END:VTIMEZONE
BEGIN:VEVENT
UID:33633630-3934-4662-b637-623832326636
DTSTAMP:20260420T025943Z
CATEGORIES:Talleres y cursos
CLASS:PUBLIC
DESCRIPTION;ALTREP="CID:<FFFF__=0ABBE548DFE235B58f9e8a93d@coffeebean.com>":
 Participa en el Curso de Rap Online con Nacidos de la Tierra\, los viernes
  5\, 12\, 19 y 26 de Julio de 2024\, de 17:30 a 19:00 h\, España peninsula
 r.\nEste curso está abierto a personas de todas las edades\, niveles y lug
 ares de residencia\, brindándoles la oportunidad de aprender y mejorar sus
  habilidades en el Rap bajo la guía experta de Kasú y Meser. Durante el cu
 rso\, se abordarán temas esenciales como técnicas de improvisación\, graba
 ción de canciones\, promoción en plataformas digitales y estrategias para 
 conciertos y giras (entre otros).\nAprovecha el descuento especial de lanz
 amiento: ¡los primeros en inscribirse obtendrán el curso completo valorado
  en 150€ por solo 50€ / 50$! No te pierdas esta oportunidad única de apren
 der y crecer en el mundo del Rap.\nHorarios:\nUTC+2 (España): 17:30 - 19:0
 0UTC-3 (Argentina\, Uruguay): 12:30 - 14:00UTC-4 (Chile\, Bolivia\, Venezu
 ela\, Paraguay\, Caribe\, EDT): 11:30 - 13:00UTC-5 (México Centro\, Colomb
 ia\, Perú\, CDT): 10:30 - 12:00UTC-6 (Centroamérica\, MDT): 09:30 - 11:00U
 TC-7 (México Pacífico\, PDT): 08:30 - 10:00\nÚnete a nosotros y aprende de
  los mejores\, ¡desde la comodidad de tu hogar!\n{source}&lt\;div style='t
 ext-align: center\; margin-top: 20px\;'&gt\;&lt\;a href='https://nacidosde
 latierra.com/curso-de-rap-on-line' style='display: inline-block\;backgroun
 d-color: #28a745\; /* Color verde */color: white\;padding: 15px 25px\;text
 -align: center\;text-decoration: none\;font-size: 16px\;font-weight: bold\
 ;border-radius: 5px\;box-shadow: 0 4px 6px rgba(0\, 0\, 0\, 0.1)\;transiti
 on: background-color 0.3s ease\;' onmouseover='this.style.backgroundColor=
 '#218838'' onmouseout='this.style.backgroundColor='#28a745''&gt\;INFORMACI
 ÓN SOBRE EL CURSO DE RAP ON LINE&lt\;/a&gt\;&lt\;/div&gt\;{/source}\nSolic
 ita información sin compromiso\no Inscríbete ya para no perder tu plaza\nS
 olicita información de las Clases de Rap On Line sin compromiso o inscríbe
 te ya para asegurarte tu plaza rellenando el siguiente formulario\, muy pr
 onto nos comunicaremos contigo para informarte sobre todo lo que necesites
 .\n{convertforms 12}
DTSTART:20240712T153000Z
DTEND:20240712T170000Z
GEO:00;0
LOCATION:
ORGANIZER:
SEQUENCE:1
SUMMARY:Curso de Rap Online con Nacidos de la Tierra - Julio 2024
TRANSP:OPAQUE
URL:https://www.nacidosdelatierra.com/eventos/curso-de-rap-online-con-nacid
 os-de-la-tierra-julio-2024/2024-07-12-17-30.html
END:VEVENT
END:VCALENDAR
