BEGIN:VCALENDAR
VERSION:2.0
PRODID:-//Nacidos de la Tierra//NONSGML kigkonsult.se iCalcreator 2.41.92//
CALSCALE:GREGORIAN
METHOD:PUBLISH
UID:64626639-6437-4131-b532-393438386134
X-WR-CALNAME:iCagenda
X-WR-CALDESC:Event Management Extension for Joomla!
X-WR-RELCALID:3E26604A-50F4-4449-8B3E-E4F4932D05B5
X-WR-TIMEZONE:Europe/Madrid
BEGIN:VTIMEZONE
TZID:Europe/Madrid
TZUNTIL:20271031T010000Z
BEGIN:STANDARD
TZNAME:CET
DTSTART:20251026T030000
TZOFFSETFROM:+0200
TZOFFSETTO:+0100
RDATE:20261025T030000
END:STANDARD
BEGIN:DAYLIGHT
TZNAME:CEST
DTSTART:20250330T020000
TZOFFSETFROM:+0100
TZOFFSETTO:+0200
RDATE:20260329T020000
RDATE:20270328T020000
END:DAYLIGHT
END:VTIMEZONE
BEGIN:VEVENT
UID:38363739-3932-4530-b863-646436313265
DTSTAMP:20260419T200555Z
CATEGORIES:Actuaciones
CLASS:PUBLIC
DESCRIPTION;ALTREP="CID:<FFFF__=0ABBE548DFE235B58f9e8a93d@coffeebean.com>":
 El próximo&nbsp\;domingo 23 de noviembre de 2025\, de&nbsp\;11:00 a 14:00h
 \, celebramos en la&nbsp\;Alameda de Bètera&nbsp\;el&nbsp\;Festival Famili
 ar del Día Universal de la Infancia\, un evento gratuito pensado para disf
 rutar en familia y abierto a edades de&nbsp\;3 a 17 años.\nSerá una mañana
  llena de movimiento\, arte\, música y diversión\, con distintas zonas ada
 ptadas para que cada persona encuentre su espacio de creatividad y juego:
 \n\nZona 1 – Música y Movimiento:&nbsp\;talleres de danza urbana por edade
 s y exhibiciones musicales que harán vibrar a toda la familia.\nZona 2 – A
 rte y Creatividad:&nbsp\;mural colaborativo&nbsp\;“El Árbol de la Vida”\, 
 un espacio para expresar emociones a través del color y el arte urbano.\nZ
 ona 3 – Deportes Urbanos:&nbsp\;talleres de&nbsp\;Parkour&nbsp\;y&nbsp\;Sk
 ate\, pensados para descubrir nuevas formas de moverse y ganar confianza.
 \nZona 4 – Juego y Expresión:&nbsp\;juegos interciclos\, taller de máscara
 s y pinta caras para dejar volar la imaginación.\nFotomatón:&nbsp\;llévate
  un recuerdo especial al pasar por el fotomatón instalado junto al escenar
 io.\n\nUn día para celebrar la infancia\, fortalecer vínculos y crear expe
 riencias inolvidables a través del arte\, el movimiento y la cultura urban
 a.\n¡Os esperamos familias!
DTSTART:20251123T100000Z
DTEND:20251123T100000Z
GEO:+39.593777;-0.462152
LOCATION:Alameda de Betera
ORGANIZER:
SEQUENCE:1
SUMMARY:Día Universal de la Infancia – Festival Familiar en Bètera
TRANSP:OPAQUE
URL:https://www.nacidosdelatierra.com/eventos/dia-universal-de-la-infancia-
 festival-familiar-en-betera/2025-11-23-11-00.html
END:VEVENT
END:VCALENDAR
