BEGIN:VCALENDAR
VERSION:2.0
PRODID:-//Nacidos de la Tierra//NONSGML kigkonsult.se iCalcreator 2.41.92//
CALSCALE:GREGORIAN
METHOD:PUBLISH
UID:63393162-3939-4632-b133-646663643734
X-WR-CALNAME:iCagenda
X-WR-CALDESC:Event Management Extension for Joomla!
X-WR-RELCALID:3E26604A-50F4-4449-8B3E-E4F4932D05B5
X-WR-TIMEZONE:Europe/Madrid
BEGIN:VTIMEZONE
TZID:Europe/Madrid
TZUNTIL:20261025T010000Z
BEGIN:STANDARD
TZNAME:CET
DTSTART:20231029T030000
TZOFFSETFROM:+0200
TZOFFSETTO:+0100
RDATE:20241027T030000
RDATE:20251026T030000
END:STANDARD
BEGIN:DAYLIGHT
TZNAME:CEST
DTSTART:20240331T020000
TZOFFSETFROM:+0100
TZOFFSETTO:+0200
RDATE:20250330T020000
RDATE:20260329T020000
END:DAYLIGHT
END:VTIMEZONE
BEGIN:VEVENT
UID:30623466-6136-4733-b737-633235376361
DTSTAMP:20260423T093819Z
CATEGORIES:Actuaciones
CLASS:PUBLIC
DESCRIPTION;ALTREP="CID:<FFFF__=0ABBE548DFE235B58f9e8a93d@coffeebean.com>":
 Encuentro de Salud “Construyendo Salud para Todos y Todas”&nbsp\;en Patern
 a\, un evento educativo diseñado para inspirar al alumnado de primaria a t
 ravés del arte y el deporte. Este encuentro contará con una&nbsp\;exhibici
 ón de Rap y Parkour&nbsp\;a cargo de&nbsp\;Kasú y Meser\, del grupo&nbsp\;
 Nacidos de la Tierra\, junto al talentoso equipo de parkour de&nbsp\;R-evo
 lution School.\nEl objetivo de este evento es acercar al alumnado de prima
 ria temas fundamentales como la&nbsp\;salud y la alimentación saludable\, 
 utilizando el Rap como una herramienta dinámica para la reflexión y el apr
 endizaje. A ritmo de las rimas de Kasú y Meser\, se explorarán conceptos c
 lave de bienestar\, autocuidado y nutrición. La música servirá como puente
  para conectar con el alumnado y hacerles partícipes de una conversación s
 obre hábitos saludables de una manera cercana y amena.\nAdemás\, la energí
 a no solo vendrá desde el micrófono. Los y las asistentes podrán disfrutar
  de una impresionante exhibición de&nbsp\;Parkour\, realizada por el equip
 o de&nbsp\;R-evolution School\, quienes mostrarán destrezas físicas y cómo
  el deporte urbano puede ser una forma divertida de mantenerse activo y sa
 ludable. Este encuentro será una oportunidad única para aprender sobre la 
 importancia de la salud física y emocional de manera dinámica\, participat
 iva y con un enfoque fresco que conecta con el público asistente.
DTSTART:20240927T083000Z
DTEND:20240927T083000Z
GEO:+39.504486;-0.445823
LOCATION:Auditori Antonio Cabeza
ORGANIZER:
SEQUENCE:1
SUMMARY:Encuentro de Salud “Construyendo Salud para Todos y Todas”
TRANSP:OPAQUE
URL:https://www.nacidosdelatierra.com/eventos/encuentro-de-salud-construyen
 do-salud-para-todos-y-todas/2024-09-27-10-30.html?layout=vcal
END:VEVENT
END:VCALENDAR
