BEGIN:VCALENDAR
VERSION:2.0
PRODID:-//Nacidos de la Tierra//NONSGML kigkonsult.se iCalcreator 2.41.92//
CALSCALE:GREGORIAN
METHOD:PUBLISH
UID:65626136-3761-4161-b530-306435346366
X-WR-CALNAME:iCagenda
X-WR-CALDESC:Event Management Extension for Joomla!
X-WR-RELCALID:3E26604A-50F4-4449-8B3E-E4F4932D05B5
X-WR-TIMEZONE:Europe/Madrid
BEGIN:VTIMEZONE
TZID:Europe/Madrid
TZUNTIL:20251026T010000Z
BEGIN:STANDARD
TZNAME:CET
DTSTART:20231029T030000
TZOFFSETFROM:+0200
TZOFFSETTO:+0100
RDATE:20241027T030000
END:STANDARD
BEGIN:DAYLIGHT
TZNAME:CEST
DTSTART:20230326T020000
TZOFFSETFROM:+0100
TZOFFSETTO:+0200
RDATE:20240331T020000
RDATE:20250330T020000
END:DAYLIGHT
END:VTIMEZONE
BEGIN:VEVENT
UID:64326262-3936-4566-a432-643639343739
DTSTAMP:20260419T213939Z
CATEGORIES:Talleres y cursos
CLASS:PUBLIC
DESCRIPTION;ALTREP="CID:<FFFF__=0ABBE548DFE235B58f9e8a93d@coffeebean.com>":
 ¡Celebra la magia de la Navidad con nuestro Espacio Ocio Educativo en Béte
 ra! Diseñado para niños/as de 3 a 12 años\, ofrecemos días llenos de diver
 sión\, aprendizaje y conciliación familiar. 🎄✨\nFechas y Horarios:\n\n\n'T
 arde de conciliación' - Viernes 22 de Diciembre 2023\n\nActividad de 15:00
  a 17:00h (Sujeto a un mínimo de 20 inscritos)\n\n\n\n'Espacio Ocio Educat
 ivo Navideño' - 26\, 27\, 28 y 29 Diciembre 2023 y 02\, 03\, 04 y 05 Enero
  2024\n\nEscuela: 09:00 a 14:00 h\nComedor: 14:00 a 15:30 h\nTalleres: 15:
 30 a 17:00 h\n\n\n\nLugar: Aula Jove Bétera\, Carrer Sant Lluís\, 18\, 461
 17 Bétera\, Valencia\nServicios:\n\nDiversión educativa para todas las eda
 des.\nComedor disponible para quienes lo deseen.\nTalleres creativos y emo
 cionantes.\n\n¡Inscríbete ahora para asegurar un espacio mágico para tus h
 ijos/as! Completa el formulario a continuación y únete a nosotros para una
 s vacaciones llenas de alegría y aprendizaje. ¡Te esperamos para vivir la 
 Navidad como nunca antes! 🌟🎅\n&nbsp\;{convertforms 6}
DTSTART:20231227T080000Z
DTEND:20231227T160000Z
GEO:+39.589134;-0.461396
LOCATION:Aula Jove Bétera
ORGANIZER:
SEQUENCE:1
SUMMARY:Espacio Ocio Educativo Navideño
TRANSP:OPAQUE
URL:https://www.nacidosdelatierra.com/eventos/espacio-ocio-educativo-navide
 no/2023-12-27-09-00.html
END:VEVENT
END:VCALENDAR
