BEGIN:VCALENDAR
VERSION:2.0
PRODID:-//Nacidos de la Tierra//NONSGML kigkonsult.se iCalcreator 2.41.92//
CALSCALE:GREGORIAN
METHOD:PUBLISH
UID:64666137-6232-4664-a134-656334626163
X-WR-CALNAME:iCagenda
X-WR-CALDESC:Event Management Extension for Joomla!
X-WR-RELCALID:3E26604A-50F4-4449-8B3E-E4F4932D05B5
X-WR-TIMEZONE:Europe/Madrid
BEGIN:VTIMEZONE
TZID:Europe/Madrid
TZUNTIL:20271031T010000Z
BEGIN:STANDARD
TZNAME:CET
DTSTART:20251026T030000
TZOFFSETFROM:+0200
TZOFFSETTO:+0100
RDATE:20261025T030000
END:STANDARD
BEGIN:DAYLIGHT
TZNAME:CEST
DTSTART:20250330T020000
TZOFFSETFROM:+0100
TZOFFSETTO:+0200
RDATE:20260329T020000
RDATE:20270328T020000
END:DAYLIGHT
END:VTIMEZONE
BEGIN:VEVENT
UID:38306638-3839-4238-b163-663737303962
DTSTAMP:20260419T201535Z
CATEGORIES:Talleres y cursos
CLASS:PUBLIC
DESCRIPTION;ALTREP="CID:<FFFF__=0ABBE548DFE235B58f9e8a93d@coffeebean.com>":
 Con motivo del&nbsp\;Día de los Derechos de la Infancia\, el municipio de 
 Paterna celebró una jornada muy especial en el&nbsp\;CEIP Miguel de Cervan
 tes\, que culminó con un&nbsp\;espectáculo sorpresa de Parkour&nbsp\;a car
 go del equipo&nbsp\;R-evolution\, colectivo colaborador de Nacidos de la T
 ierra.\nEsta exhibición\, realizada en horario lectivo y en un formato de&
 nbsp\;máster class explicativa y no participativa\, permitió al alumnado c
 onocer de cerca esta disciplina deportiva urbana\, entendida como una herr
 amienta educativa que fomenta el&nbsp\;ocio saludable\, la actividad físic
 a al aire libre y el trabajo en valores.\nDurante la sesión\, el equipo de
  Parkour mostró diferentes movimientos y técnicas\, explicando de forma ac
 cesible los&nbsp\;beneficios del Parkour para la salud\, la importancia de
  la&nbsp\;superación personal\, la confianza y el&nbsp\;uso responsable de
 l mobiliario urbano\, reforzando mensajes clave alineados con los derechos
  de la infancia.\nLa actividad estuvo dirigida exclusivamente al&nbsp\;alu
 mnado\, profesorado y familias del centro educativo\, generando un momento
  de disfrute compartido que impactó de forma muy positiva en la comunidad 
 educativa y puso en valor el deporte como herramienta de motivación\, insp
 iración y aprendizaje.
DTSTART:20251120T113000Z
DTEND:20251120T113000Z
GEO:+39.50074;-0.438739
LOCATION:CEIP Miguel de Cervantes (Paterna)
ORGANIZER:
SEQUENCE:1
SUMMARY:Exhibición de Parkour por el Día de los Derechos de la Infancia en 
 Paterna
TRANSP:OPAQUE
URL:https://www.nacidosdelatierra.com/eventos/exhibicion-de-parkour-por-el-
 dia-de-los-derechos-de-la-infancia-en-paterna/2025-11-20-12-30.html
END:VEVENT
END:VCALENDAR
