BEGIN:VCALENDAR
VERSION:2.0
PRODID:-//Nacidos de la Tierra//NONSGML kigkonsult.se iCalcreator 2.41.92//
CALSCALE:GREGORIAN
METHOD:PUBLISH
UID:63643733-3839-4364-b933-643537376562
X-WR-CALNAME:iCagenda
X-WR-CALDESC:Event Management Extension for Joomla!
X-WR-RELCALID:3E26604A-50F4-4449-8B3E-E4F4932D05B5
X-WR-TIMEZONE:Europe/Madrid
BEGIN:VTIMEZONE
TZID:Europe/Madrid
TZUNTIL:20241027T010000Z
BEGIN:STANDARD
TZNAME:CET
DTSTART:20221030T030000
TZOFFSETFROM:+0200
TZOFFSETTO:+0100
RDATE:20231029T030000
END:STANDARD
BEGIN:DAYLIGHT
TZNAME:CEST
DTSTART:20220327T020000
TZOFFSETFROM:+0100
TZOFFSETTO:+0200
RDATE:20230326T020000
RDATE:20240331T020000
END:DAYLIGHT
END:VTIMEZONE
BEGIN:VEVENT
UID:63313764-6662-4539-a132-383164353365
DTSTAMP:20260420T030734Z
CATEGORIES:Talleres y cursos
CLASS:PUBLIC
DESCRIPTION;ALTREP="CID:<FFFF__=0ABBE548DFE235B58f9e8a93d@coffeebean.com>":
 Taller de Fotografía con el Móvil y Manga en Utiel
DTSTART:20230311T100000Z
DTEND:20230311T100000Z
GEO:+39.568138;-1.204404
LOCATION:Centro Joven Utiel
ORGANIZER:
SEQUENCE:1
SUMMARY:Finde Creativo: Fotografía Móvil y Manga en Utiel
TRANSP:OPAQUE
URL:https://www.nacidosdelatierra.com/eventos/finde-creativo-fotografia-mov
 il-y-manga-en-utiel/2023-03-11-11-00.html
END:VEVENT
END:VCALENDAR
