BEGIN:VCALENDAR
VERSION:2.0
PRODID:-//Nacidos de la Tierra//NONSGML kigkonsult.se iCalcreator 2.41.92//
CALSCALE:GREGORIAN
METHOD:PUBLISH
UID:31373766-6164-4161-a235-623466346463
X-WR-CALNAME:iCagenda
X-WR-CALDESC:Event Management Extension for Joomla!
X-WR-RELCALID:3E26604A-50F4-4449-8B3E-E4F4932D05B5
X-WR-TIMEZONE:Europe/Madrid
BEGIN:VTIMEZONE
TZID:Europe/Madrid
TZUNTIL:20241027T010000Z
BEGIN:STANDARD
TZNAME:CET
DTSTART:20221030T030000
TZOFFSETFROM:+0200
TZOFFSETTO:+0100
RDATE:20231029T030000
END:STANDARD
BEGIN:DAYLIGHT
TZNAME:CEST
DTSTART:20220327T020000
TZOFFSETFROM:+0100
TZOFFSETTO:+0200
RDATE:20230326T020000
RDATE:20240331T020000
END:DAYLIGHT
END:VTIMEZONE
BEGIN:VEVENT
UID:63323736-3162-4266-b463-396562376538
DTSTAMP:20260421T095753Z
CATEGORIES:Talleres y cursos
CLASS:PUBLIC
DESCRIPTION;ALTREP="CID:<FFFF__=0ABBE548DFE235B58f9e8a93d@coffeebean.com>":
 Con esta master class de Break Dance dirigida por bboy Foves (Supremos Cre
 w) aprenderás los movimientos y pasos básicos de esta disciplina que será 
 deporte olímpico en 2024.
DTSTART:20230217T163000Z
DTEND:20230217T163000Z
GEO:+39.424843;-0.414268
LOCATION:Centre Jove Paiporta
ORGANIZER:
SEQUENCE:1
SUMMARY:Master Class de Break Dance en Paiporta
TRANSP:OPAQUE
URL:https://www.nacidosdelatierra.com/eventos/master-class-de-break-dance-e
 n-paiporta/2023-02-17-17-30.html
END:VEVENT
END:VCALENDAR
