BEGIN:VCALENDAR
VERSION:2.0
PRODID:-//Nacidos de la Tierra//NONSGML kigkonsult.se iCalcreator 2.41.92//
CALSCALE:GREGORIAN
METHOD:PUBLISH
UID:66636334-3733-4134-b262-313762626230
X-WR-CALNAME:iCagenda
X-WR-CALDESC:Event Management Extension for Joomla!
X-WR-RELCALID:3E26604A-50F4-4449-8B3E-E4F4932D05B5
X-WR-TIMEZONE:Europe/Madrid
BEGIN:VTIMEZONE
TZID:Europe/Madrid
TZUNTIL:20271031T010000Z
BEGIN:STANDARD
TZNAME:CET
DTSTART:20251026T030000
TZOFFSETFROM:+0200
TZOFFSETTO:+0100
RDATE:20261025T030000
END:STANDARD
BEGIN:DAYLIGHT
TZNAME:CEST
DTSTART:20250330T020000
TZOFFSETFROM:+0100
TZOFFSETTO:+0200
RDATE:20260329T020000
RDATE:20270328T020000
END:DAYLIGHT
END:VTIMEZONE
BEGIN:VEVENT
UID:34646661-3564-4136-b961-363665386134
DTSTAMP:20260419T201438Z
CATEGORIES:Talleres y cursos
CLASS:PUBLIC
DESCRIPTION;ALTREP="CID:<FFFF__=0ABBE548DFE235B58f9e8a93d@coffeebean.com>":
 Dentro de la programación juvenil&nbsp\;“El Nadal es Jove” de Alaquàs\, se
  llevará a cabo una&nbsp\;sesión de Parkour con obstáculos&nbsp\;dirigida 
 a alumnado a partir de 12 años\, en un entorno seguro y adaptado para la p
 ráctica de esta disciplina urbana.\nDurante la actividad\, las personas pa
 rticipantes conocerán las&nbsp\;bases técnicas del Parkour\, explorando mo
 vimientos como saltos\, desplazamientos y superación de obstáculos\, siemp
 re desde una perspectiva educativa y de&nbsp\;uso responsable del espacio 
 urbano. La sesión está planteada como una experiencia de&nbsp\;ocio saluda
 ble al aire libre\, donde el deporte se convierte en una herramienta para 
 el aprendizaje y la convivencia.\nMás allá del trabajo físico\, el Parkour
  se utilizará para reforzar&nbsp\;valores como la superación personal\, la
  confianza\, el respeto\, la cooperación y la gestión del miedo\, fomentan
 do un ambiente de apoyo mutuo y participación activa.\nEsta propuesta ofre
 ce a la juventud una alternativa de ocio activo durante las fechas navideñ
 as\, combinando movimiento\, diversión y educación en valores en un espaci
 o comunitario del municipio de Alaquàs.
DTSTART:20251230T110000Z
DTEND:20251230T110000Z
GEO:+39.455193;-0.461754
LOCATION:Biblioteca Municipal (Centre Juvenil L’Olivar)
ORGANIZER:
SEQUENCE:1
SUMMARY:Parkour Urbano en “El Nadal es Jove” de Alaquàs
TRANSP:OPAQUE
URL:https://www.nacidosdelatierra.com/eventos/parkour-urbano-en-el-nadal-es
 -jove-de-alaquas/2025-12-30-12-00.html
END:VEVENT
END:VCALENDAR
