BEGIN:VCALENDAR
VERSION:2.0
PRODID:-//Nacidos de la Tierra//NONSGML kigkonsult.se iCalcreator 2.41.92//
CALSCALE:GREGORIAN
METHOD:PUBLISH
UID:39393532-3435-4662-a339-366437633437
X-WR-CALNAME:iCagenda
X-WR-CALDESC:Event Management Extension for Joomla!
X-WR-RELCALID:3E26604A-50F4-4449-8B3E-E4F4932D05B5
X-WR-TIMEZONE:Europe/Madrid
BEGIN:VTIMEZONE
TZID:Europe/Madrid
TZUNTIL:20261025T010000Z
BEGIN:STANDARD
TZNAME:CET
DTSTART:20241027T030000
TZOFFSETFROM:+0200
TZOFFSETTO:+0100
RDATE:20251026T030000
END:STANDARD
BEGIN:DAYLIGHT
TZNAME:CEST
DTSTART:20240331T020000
TZOFFSETFROM:+0100
TZOFFSETTO:+0200
RDATE:20250330T020000
RDATE:20260329T020000
END:DAYLIGHT
END:VTIMEZONE
BEGIN:VEVENT
UID:65336532-6662-4535-a266-623634356235
DTSTAMP:20260419T201530Z
CATEGORIES:Talleres y cursos
CLASS:PUBLIC
DESCRIPTION;ALTREP="CID:<FFFF__=0ABBE548DFE235B58f9e8a93d@coffeebean.com>":
 El próximo&nbsp\;jueves 20 de marzo\, de&nbsp\;10:00 a 13:00h\, participar
 emos en la&nbsp\;presentación de resultados del proyecto “Del Pati al Carr
 er”&nbsp\;en&nbsp\;La Misti Espacio de discusión cultural\, una jornada or
 ganizada por la&nbsp\;ONG Asamblea de Cooperación por la Paz País Valencià
  (ACPP)&nbsp\;con el apoyo del&nbsp\;Ayuntamiento de València.\nDurante es
 ta sesión\, conoceremos el&nbsp\;kit de buenas prácticas contra los discur
 sos de odio\, fruto de las dinámicas educativas desarrolladas por la entid
 ad&nbsp\;Fractals Educación Artística\, que ha trabajado directamente con 
 jóvenes en diferentes centros.\nDesde&nbsp\;Nacidos de la Tierra&nbsp\;nos
  sumamos a esta jornada para aportar nuestra experiencia y visión sobre có
 mo la&nbsp\;cultura Hip Hop\, a través del&nbsp\;Rap\, la danza\, el graff
 iti o el parkour\, puede convertirse en&nbsp\;una potente herramienta de t
 ransformación\, cohesión social y educación en valores.\nUna oportunidad p
 ara tejer redes\, compartir aprendizajes y plantear conjuntamente futuras 
 actuaciones donde el arte y la educación vayan de la mano para construir e
 spacios más inclusivos\, respetuosos y críticos.
DTSTART:20250320T090000Z
DTEND:20250320T090000Z
GEO:00;0
LOCATION:La Misti · Espacio de discusión cultural
ORGANIZER:
SEQUENCE:1
SUMMARY:Presentación del Proyecto “Del Pati al Carrer”: Cultura Hip Hop con
 tra los discursos de odio
TRANSP:OPAQUE
URL:https://www.nacidosdelatierra.com/eventos/presentacion-del-proyecto-del
 -pati-al-carrer-cultura-hip-hop-contra-los-discursos-de-odio/2025-03-20-10
 -00.html
END:VEVENT
END:VCALENDAR
