BEGIN:VCALENDAR
VERSION:2.0
PRODID:-//Nacidos de la Tierra//NONSGML kigkonsult.se iCalcreator 2.41.92//
CALSCALE:GREGORIAN
METHOD:PUBLISH
UID:36353537-6431-4031-b538-346231666162
X-WR-CALNAME:iCagenda
X-WR-CALDESC:Event Management Extension for Joomla!
X-WR-RELCALID:3E26604A-50F4-4449-8B3E-E4F4932D05B5
X-WR-TIMEZONE:Europe/Madrid
BEGIN:VTIMEZONE
TZID:Europe/Madrid
TZUNTIL:20251026T010000Z
BEGIN:STANDARD
TZNAME:CET
DTSTART:20231029T030000
TZOFFSETFROM:+0200
TZOFFSETTO:+0100
RDATE:20241027T030000
END:STANDARD
BEGIN:DAYLIGHT
TZNAME:CEST
DTSTART:20230326T020000
TZOFFSETFROM:+0100
TZOFFSETTO:+0200
RDATE:20240331T020000
RDATE:20250330T020000
END:DAYLIGHT
END:VTIMEZONE
BEGIN:VEVENT
UID:34626531-3330-4364-a133-666434333738
DTSTAMP:20260419T220641Z
CATEGORIES:Talleres y cursos
CLASS:PUBLIC
DESCRIPTION;ALTREP="CID:<FFFF__=0ABBE548DFE235B58f9e8a93d@coffeebean.com>":
 A lo largo del curso 2023/2024\, en el IES L'Eliana\, se llevará a cabo un
  emocionante proyecto de creación y grabación de una canción colectiva. Es
 te proyecto\, impartido por Kasú y Meser\, de Nacidos de la Tierra\, estar
 á dirigido al alumnado de 1º a 3º de la ESO\, y se desarrollará en horario
  de 12:00 a 14:00 h.\nDurante este proyecto\, se trabajará en la sensibili
 zación sobre diversos temas sociales\, la expresión de emociones a través 
 de la música\, la resolución de conflictos y el sentido de pertenencia al 
 grupo y al espacio educativo.\nAcompañados por Kasú y Meser\, el alumnado 
 tendrá la oportunidad de explorar su creatividad y trabajar juntos en la c
 reación de una canción que refleje sus experiencias y emociones. Este proy
 ecto no solo fomentará el desarrollo artístico\, sino que también promover
 á valores de trabajo en equipo\, comunicación y expresión personal.\nNo te
  pierdas esta emocionante oportunidad de formar parte de un proyecto que c
 ombina la música y la sensibilización social en IES L'Eliana.
DTSTART:20240131T110000Z
DTEND:20240131T110000Z
GEO:+39.57058;-0.526603
LOCATION:IES L'Eliana
ORGANIZER:
SEQUENCE:1
SUMMARY:Proyecto de Sensibilización y Creatividad Musical en IES L'Eliana c
 on Kasú y Meser
TRANSP:OPAQUE
URL:https://www.nacidosdelatierra.com/eventos/proyecto-de-sensibilizacion-y
 -creatividad-musical-en-ies-leliana-con-kasu-y-meser/2024-01-31-12-00.html
END:VEVENT
END:VCALENDAR
