BEGIN:VCALENDAR
VERSION:2.0
PRODID:-//Nacidos de la Tierra//NONSGML kigkonsult.se iCalcreator 2.41.92//
CALSCALE:GREGORIAN
METHOD:PUBLISH
UID:61386631-3365-4237-a333-333230613534
X-WR-CALNAME:iCagenda
X-WR-CALDESC:Event Management Extension for Joomla!
X-WR-RELCALID:3E26604A-50F4-4449-8B3E-E4F4932D05B5
X-WR-TIMEZONE:Europe/Madrid
BEGIN:VTIMEZONE
TZID:Europe/Madrid
TZUNTIL:20261025T010000Z
BEGIN:STANDARD
TZNAME:CET
DTSTART:20231029T030000
TZOFFSETFROM:+0200
TZOFFSETTO:+0100
RDATE:20241027T030000
RDATE:20251026T030000
END:STANDARD
BEGIN:DAYLIGHT
TZNAME:CEST
DTSTART:20240331T020000
TZOFFSETFROM:+0100
TZOFFSETTO:+0200
RDATE:20250330T020000
RDATE:20260329T020000
END:DAYLIGHT
END:VTIMEZONE
BEGIN:VEVENT
UID:35363138-6464-4432-b931-313936663961
DTSTAMP:20260420T011017Z
CATEGORIES:Talleres y cursos
CLASS:PUBLIC
DESCRIPTION;ALTREP="CID:<FFFF__=0ABBE548DFE235B58f9e8a93d@coffeebean.com>":
 Actividad dirigida para los/as alumnos/as &nbsp\;del aula PAC del IES Beat
 riu Civera utilizando la cultura Hip Hop y el Rap como herramienta para ex
 presarse a través de la identidad artística.
DTSTART:20241010T090000Z
DTEND:20241010T120000Z
GEO:+39.472504;-0.461183
LOCATION:IES Beatriu Civera
ORGANIZER:
SEQUENCE:1
SUMMARY:Proyecto 'Identidad Artística' en IES Beatriu Civera
TRANSP:OPAQUE
URL:https://www.nacidosdelatierra.com/eventos/proyecto-identidad-artistica-
 en-ies-beatriu-civera/2024-10-10-11-00.html
END:VEVENT
END:VCALENDAR
