BEGIN:VCALENDAR
VERSION:2.0
PRODID:-//Nacidos de la Tierra//NONSGML kigkonsult.se iCalcreator 2.41.92//
CALSCALE:GREGORIAN
METHOD:PUBLISH
UID:62663332-3636-4433-b439-306630646563
X-WR-CALNAME:iCagenda
X-WR-CALDESC:Event Management Extension for Joomla!
X-WR-RELCALID:3E26604A-50F4-4449-8B3E-E4F4932D05B5
X-WR-TIMEZONE:Europe/Madrid
BEGIN:VTIMEZONE
TZID:Europe/Madrid
TZUNTIL:20261025T010000Z
BEGIN:STANDARD
TZNAME:CET
DTSTART:20241027T030000
TZOFFSETFROM:+0200
TZOFFSETTO:+0100
RDATE:20251026T030000
END:STANDARD
BEGIN:DAYLIGHT
TZNAME:CEST
DTSTART:20250330T020000
TZOFFSETFROM:+0100
TZOFFSETTO:+0200
RDATE:20260329T020000
END:DAYLIGHT
END:VTIMEZONE
BEGIN:VEVENT
UID:64636538-3064-4631-b039-616565613838
DTSTAMP:20260419T201230Z
CATEGORIES:Talleres y cursos
CLASS:PUBLIC
DESCRIPTION;ALTREP="CID:<FFFF__=0ABBE548DFE235B58f9e8a93d@coffeebean.com>":
 Durante el segundo trimestre del curso 2024/2025\, el alumnado de 2º y 3º 
 de secundaria del&nbsp\;IES L’Eliana&nbsp\;participará en un proyecto educ
 ativo diferente y transformador:&nbsp\;un taller de sensibilización a trav
 és del Rap y la cultura Hip Hop.\nA lo largo de las sesiones\, que se llev
 arán a cabo los días&nbsp\;27 de febrero\, 11 y 25 de marzo y 1 de abril\,
  trabajaremos temas como el&nbsp\;respeto\, la empatía y la convivencia\, 
 partiendo de la historia y los valores fundacionales de la cultura Hip Hop
  para conectar con la realidad y el lenguaje de la juventud.\nEste proceso
  creativo culminará con la&nbsp\;creación de una letra colectiva\, donde e
 l grupo podrá expresarse libremente\, reflexionar sobre sus vivencias y re
 forzar su sentido de pertenencia. Se promoverán además la&nbsp\;escucha ac
 tiva\, el pensamiento crítico&nbsp\;y la&nbsp\;expresión emocional&nbsp\;a
  través del arte\, fomentando un entorno educativo más inclusivo\, partici
 pativo y consciente.\nUn proyecto impartido por&nbsp\;Kasú y Meser\, de Na
 cidos de la Tierra\, donde la música se convierte en herramienta de transf
 ormación social y educativa.
DTSTART:20250401T074400Z
DTEND:20250401T074400Z
GEO:00;0
LOCATION:IES L'Eliana
ORGANIZER:
SEQUENCE:1
SUMMARY:Rap\, Respeto y Reflexión: Proyecto de Sensibilización en el IES L’
 Eliana
TRANSP:OPAQUE
URL:https://www.nacidosdelatierra.com/eventos/rap-respeto-y-reflexion-proye
 cto-de-sensibilizacion-en-el-ies-leliana/2025-04-01-09-44.html
END:VEVENT
END:VCALENDAR
