BEGIN:VCALENDAR
VERSION:2.0
PRODID:-//Nacidos de la Tierra//NONSGML kigkonsult.se iCalcreator 2.41.92//
CALSCALE:GREGORIAN
METHOD:PUBLISH
UID:39653830-6363-4964-a262-326537353233
X-WR-CALNAME:iCagenda
X-WR-CALDESC:Event Management Extension for Joomla!
X-WR-RELCALID:3E26604A-50F4-4449-8B3E-E4F4932D05B5
X-WR-TIMEZONE:Europe/Madrid
BEGIN:VTIMEZONE
TZID:Europe/Madrid
TZUNTIL:20261025T010000Z
BEGIN:STANDARD
TZNAME:CET
DTSTART:20241027T030000
TZOFFSETFROM:+0200
TZOFFSETTO:+0100
RDATE:20251026T030000
END:STANDARD
BEGIN:DAYLIGHT
TZNAME:CEST
DTSTART:20240331T020000
TZOFFSETFROM:+0100
TZOFFSETTO:+0200
RDATE:20250330T020000
RDATE:20260329T020000
END:DAYLIGHT
END:VTIMEZONE
BEGIN:VEVENT
UID:35373865-3061-4138-a565-366337613863
DTSTAMP:20260419T214230Z
CATEGORIES:Talleres y cursos
CLASS:PUBLIC
DESCRIPTION;ALTREP="CID:<FFFF__=0ABBE548DFE235B58f9e8a93d@coffeebean.com>":
 Durante tres miércoles del mes de febrero de 2025\, el alumnado de 6º de p
 rimaria del&nbsp\;CEIP El Garbí de L’Eliana&nbsp\;vivirá una experiencia e
 ducativa diferente\, creativa y transformadora: un&nbsp\;proyecto de sensi
 bilización a través del Rap y la cultura Hip Hop.\nLas sesiones\, que se r
 ealizarán los días&nbsp\;12\, 19 y 26 de febrero&nbsp\;de&nbsp\;11:15 a 13
 :00h\, tienen como objetivo trabajar valores fundamentales como el&nbsp\;r
 espeto\, la empatía y la convivencia&nbsp\;en el entorno escolar. A través
  del conocimiento de la historia y los pilares del Hip Hop\, y con dinámic
 as prácticas de creación de letras\, el grupo desarrollará una&nbsp\;canci
 ón colectiva\, expresando sus ideas\, emociones y reflexiones.\nEste tipo 
 de proyectos fomentan la escucha activa\, la cohesión de grupo y la autoes
 tima\, al tiempo que refuerzan el valor de la palabra como herramienta de 
 cambio. Una iniciativa educativa y cultural que demuestra que el Rap tambi
 én educa\, conecta y transforma.
DTSTART:20250212T101500Z
DTEND:20250212T120000Z
GEO:+39.572517;-0.529554
LOCATION:CEIP El Garbí de L’Eliana
ORGANIZER:
SEQUENCE:1
SUMMARY:Sensibilización en Primaria a Ritmo de Rap en L’Eliana
TRANSP:OPAQUE
URL:https://www.nacidosdelatierra.com/eventos/sensibilizacion-en-primaria-a
 -ritmo-de-rap-en-leliana/2025-02-12-11-15.html
END:VEVENT
END:VCALENDAR
