BEGIN:VCALENDAR
VERSION:2.0
PRODID:-//Nacidos de la Tierra//NONSGML kigkonsult.se iCalcreator 2.41.92//
CALSCALE:GREGORIAN
METHOD:PUBLISH
UID:36323930-6231-4631-b537-663261633961
X-WR-CALNAME:iCagenda
X-WR-CALDESC:Event Management Extension for Joomla!
X-WR-RELCALID:3E26604A-50F4-4449-8B3E-E4F4932D05B5
X-WR-TIMEZONE:Europe/Madrid
BEGIN:VTIMEZONE
TZID:Europe/Madrid
TZUNTIL:20240331T010000Z
BEGIN:STANDARD
TZNAME:CET
DTSTART:20211031T030000
TZOFFSETFROM:+0200
TZOFFSETTO:+0100
RDATE:20221030T030000
RDATE:20231029T030000
END:STANDARD
BEGIN:DAYLIGHT
TZNAME:CEST
DTSTART:20220327T020000
TZOFFSETFROM:+0100
TZOFFSETTO:+0200
RDATE:20230326T020000
END:DAYLIGHT
END:VTIMEZONE
BEGIN:VEVENT
UID:39323036-6630-4336-a364-386364383430
DTSTAMP:20260421T095721Z
CATEGORIES:Talleres y cursos
CLASS:PUBLIC
DESCRIPTION;ALTREP="CID:<FFFF__=0ABBE548DFE235B58f9e8a93d@coffeebean.com>":
 Ven a practicar Slackline de la mano de la Asociación Slackline Valencia\n
DTSTART:20220618T083000Z
DTEND:20220618T083000Z
GEO:+39.593819;-0.468457
LOCATION:Parque El Junqueral
ORGANIZER:
SEQUENCE:1
SUMMARY:Slackline en Bétera
TRANSP:OPAQUE
URL:https://www.nacidosdelatierra.com/eventos/slackline-en-betera/2022-06-1
 8-10-30.html
END:VEVENT
END:VCALENDAR
