BEGIN:VCALENDAR
VERSION:2.0
PRODID:-//Nacidos de la Tierra//NONSGML kigkonsult.se iCalcreator 2.41.92//
CALSCALE:GREGORIAN
METHOD:PUBLISH
UID:65333939-3939-4637-b332-656261393230
X-WR-CALNAME:iCagenda
X-WR-CALDESC:Event Management Extension for Joomla!
X-WR-RELCALID:3E26604A-50F4-4449-8B3E-E4F4932D05B5
X-WR-TIMEZONE:Europe/Madrid
BEGIN:VTIMEZONE
TZID:Europe/Madrid
TZUNTIL:20271031T010000Z
BEGIN:STANDARD
TZNAME:CET
DTSTART:20251026T030000
TZOFFSETFROM:+0200
TZOFFSETTO:+0100
RDATE:20261025T030000
END:STANDARD
BEGIN:DAYLIGHT
TZNAME:CEST
DTSTART:20250330T020000
TZOFFSETFROM:+0100
TZOFFSETTO:+0200
RDATE:20260329T020000
RDATE:20270328T020000
END:DAYLIGHT
END:VTIMEZONE
BEGIN:VEVENT
UID:39646138-3232-4238-a135-646238393565
DTSTAMP:20260419T214942Z
CATEGORIES:Talleres y cursos
CLASS:PUBLIC
DESCRIPTION;ALTREP="CID:<FFFF__=0ABBE548DFE235B58f9e8a93d@coffeebean.com>":
 En el IES Sedaví se llevará a cabo un&nbsp\;taller de creación musical&nbs
 p\;dirigido al alumnado de 4º de la ESO con el objetivo de&nbsp\;prevenir 
 la LGTBIQ+fobia&nbsp\;y promover el respeto hacia la diversidad sexual y d
 e género.\nDurante las sesiones\, que tendrán lugar los días&nbsp\;16\, 23
  y 30 de octubre y 6 y 13 de noviembre\, de&nbsp\;12:00 a 14:00h\, el grup
 o trabajará junto a&nbsp\;Kasú y Meser de Nacidos de la Tierra&nbsp\;para 
 crear una&nbsp\;canción colectiva de música urbana\, adaptada a los gustos
  y estilos musicales del propio alumnado.\nA través del Rap\, el ritmo y l
 a palabra\, se abordarán valores como el&nbsp\;Respeto\, la Empatía y la C
 onvivencia\, utilizando la música como herramienta educativa y transformad
 ora. Esta experiencia participativa permitirá reflexionar sobre la diversi
 dad desde un enfoque positivo\, creativo y cercano\, fomentando además el 
 trabajo en equipo\, la autoestima y la expresión artística.
DTSTART:20251113T110000Z
DTEND:20251113T130000Z
GEO:+39.426861;-0.381234
LOCATION:
ORGANIZER:
SEQUENCE:1
SUMMARY:Taller de Creación Musical contra la LGTBIQ+fobia en el IES Sedaví
TRANSP:OPAQUE
URL:https://www.nacidosdelatierra.com/eventos/taller-de-creacion-musical-co
 ntra-la-lgtbiq-fobia-en-el-ies-sedavi/2025-11-13-12-00.html
END:VEVENT
END:VCALENDAR
