BEGIN:VCALENDAR
VERSION:2.0
PRODID:-//Nacidos de la Tierra//NONSGML kigkonsult.se iCalcreator 2.41.92//
CALSCALE:GREGORIAN
METHOD:PUBLISH
UID:65626666-3964-4765-b630-343139383939
X-WR-CALNAME:iCagenda
X-WR-CALDESC:Event Management Extension for Joomla!
X-WR-RELCALID:3E26604A-50F4-4449-8B3E-E4F4932D05B5
X-WR-TIMEZONE:Europe/Madrid
BEGIN:VTIMEZONE
TZID:Europe/Madrid
TZUNTIL:20261025T010000Z
BEGIN:STANDARD
TZNAME:CET
DTSTART:20241027T030000
TZOFFSETFROM:+0200
TZOFFSETTO:+0100
RDATE:20251026T030000
END:STANDARD
BEGIN:DAYLIGHT
TZNAME:CEST
DTSTART:20240331T020000
TZOFFSETFROM:+0100
TZOFFSETTO:+0200
RDATE:20250330T020000
RDATE:20260329T020000
END:DAYLIGHT
END:VTIMEZONE
BEGIN:VEVENT
UID:65666335-3233-4337-b064-343662333462
DTSTAMP:20260419T201355Z
CATEGORIES:Talleres y cursos
CLASS:PUBLIC
DESCRIPTION;ALTREP="CID:<FFFF__=0ABBE548DFE235B58f9e8a93d@coffeebean.com>":
 El&nbsp\;Taller de Creación Musical&nbsp\;llega al IES Mestre Ramón Esteve
  de Catadau para ofrecer una experiencia única al alumnado de FP Básica. D
 urante tres sesiones\, los martes 11 y 25 de febrero\, y el 11 de marzo de
  2025\, en horario de 14:00 a 16:00 h\, los/as participantes se adentrarán
  en el proceso creativo de la música\, desde la sensibilización y la refle
 xión hasta la creación colectiva.\nEste proyecto tiene como objetivo traba
 jar valores\, abordar temas de interés del grupo y fomentar la expresión d
 e emociones a través del arte. Bajo la guía de&nbsp\;Nacidos de la Tierra\
 , los/as jóvenes explorarán la escritura y la interpretación musical\, cre
 ando una canción que refleje sus ideas\, sentimientos y experiencias.\nMás
  allá de la música\, este taller será un espacio para desarrollar habilida
 des de comunicación\, conexión grupal y trabajo en equipo\, promoviendo el
  autoconocimiento y la empatía en un entorno educativo y creativo.
DTSTART:20250211T130000Z
DTEND:20250211T130000Z
GEO:+39.277779;-0.569001
LOCATION:IES Mestre Ramón Esteve
ORGANIZER:
SEQUENCE:1
SUMMARY:Taller de Creación Musical en el IES Mestre Ramón Esteve
TRANSP:OPAQUE
URL:https://www.nacidosdelatierra.com/eventos/taller-de-creacion-musical-en
 -el-ies-mestre-ramon-esteve/2025-02-11-14-00.html
END:VEVENT
END:VCALENDAR
