BEGIN:VCALENDAR
VERSION:2.0
PRODID:-//Nacidos de la Tierra//NONSGML kigkonsult.se iCalcreator 2.41.92//
CALSCALE:GREGORIAN
METHOD:PUBLISH
UID:64383136-6438-4364-b036-663833333366
X-WR-CALNAME:iCagenda
X-WR-CALDESC:Event Management Extension for Joomla!
X-WR-RELCALID:3E26604A-50F4-4449-8B3E-E4F4932D05B5
X-WR-TIMEZONE:Europe/Madrid
BEGIN:VTIMEZONE
TZID:Europe/Madrid
TZUNTIL:20250330T010000Z
BEGIN:STANDARD
TZNAME:CET
DTSTART:20221030T030000
TZOFFSETFROM:+0200
TZOFFSETTO:+0100
RDATE:20231029T030000
RDATE:20241027T030000
END:STANDARD
BEGIN:DAYLIGHT
TZNAME:CEST
DTSTART:20230326T020000
TZOFFSETFROM:+0100
TZOFFSETTO:+0200
RDATE:20240331T020000
END:DAYLIGHT
END:VTIMEZONE
BEGIN:VEVENT
UID:65613065-6339-4265-a232-343637383939
DTSTAMP:20260420T030118Z
CATEGORIES:Talleres y cursos
CLASS:PUBLIC
DESCRIPTION;ALTREP="CID:<FFFF__=0ABBE548DFE235B58f9e8a93d@coffeebean.com>":
 ¡Ven y únete a nuestro apasionante taller de Creación Musical y Videoclips
 ! Durante cuatro días (24\, 25\, 26 y 28 de julio) en la Casa de la Cultur
 a Alzira\, exploraremos el mundo de la música y la producción de videoclip
 s. Aprenderás a componer tus propias canciones y descubrirás cómo dar vida
  a tus ideas a través de la grabación y edición de videoclips\, ¡incluso c
 rearemos una canción y un videoclip en grupo!. ¡No necesitas experiencia p
 revia\, solo ganas de expresarte y divertirte! Únete a nosotros y descubre
  el apasionante mundo de la creación musical.
DTSTART:20230728T083000Z
DTEND:20230728T112500Z
GEO:+39.150764;-0.436049
LOCATION:Casa de la Cultura Alzira
ORGANIZER:
SEQUENCE:1
SUMMARY:Taller de Creación Musical y Videoclips en Alzira
TRANSP:OPAQUE
URL:https://www.nacidosdelatierra.com/eventos/taller-de-creacion-musical-y-
 videoclips-en-alzira/2023-07-28-10-30.html
END:VEVENT
END:VCALENDAR
