BEGIN:VCALENDAR
VERSION:2.0
PRODID:-//Nacidos de la Tierra//NONSGML kigkonsult.se iCalcreator 2.41.92//
CALSCALE:GREGORIAN
METHOD:PUBLISH
UID:38633530-3130-4339-b663-313033623833
X-WR-CALNAME:iCagenda
X-WR-CALDESC:Event Management Extension for Joomla!
X-WR-RELCALID:3E26604A-50F4-4449-8B3E-E4F4932D05B5
X-WR-TIMEZONE:Europe/Madrid
BEGIN:VTIMEZONE
TZID:Europe/Madrid
TZUNTIL:20260329T010000Z
BEGIN:STANDARD
TZNAME:CET
DTSTART:20231029T030000
TZOFFSETFROM:+0200
TZOFFSETTO:+0100
RDATE:20241027T030000
RDATE:20251026T030000
END:STANDARD
BEGIN:DAYLIGHT
TZNAME:CEST
DTSTART:20240331T020000
TZOFFSETFROM:+0100
TZOFFSETTO:+0200
RDATE:20250330T020000
END:DAYLIGHT
END:VTIMEZONE
BEGIN:VEVENT
UID:64393062-3534-4838-a464-313566363838
DTSTAMP:20260420T030859Z
CATEGORIES:Talleres y cursos
CLASS:PUBLIC
DESCRIPTION;ALTREP="CID:<FFFF__=0ABBE548DFE235B58f9e8a93d@coffeebean.com>":
 El 15 de Julio\, participa en el Taller de Danza Urbana y Música Urbana en
  Alfara del Patriarca\, especialmente diseñado para jóvenes de 12 a 16 año
 s. De 09:00 a 13:00 h\, sumérgete en el vibrante mundo de la danza urbana\
 , aprendiendo movimientos dinámicos y estilos actuales que te permitirán e
 xpresar tu creatividad y energía.\nAdemás\, Kasú y Meser de Nacidos de la 
 Tierra te guiarán en una sesión de Música Urbana\, donde podrás descubrir 
 cómo se crean las letras que dan vida a este género. No necesitas experien
 cia previa\, solo ganas de aprender y divertirte.\nÚnete a nosotros para u
 na experiencia única de danza y música que te ayudará a desarrollar tu tal
 ento y confianza.
DTSTART:20240715T070000Z
DTEND:20240715T070000Z
GEO:+39.544128;-0.385659
LOCATION:
ORGANIZER:
SEQUENCE:1
SUMMARY:Taller de Danza Urbana y Música Urbana en Alfara del Patriarca
TRANSP:OPAQUE
URL:https://www.nacidosdelatierra.com/eventos/taller-de-danza-urbana-y-musi
 ca-urbana-en-alfara-del-patriarca/2024-07-15-09-00.html
END:VEVENT
END:VCALENDAR
