BEGIN:VCALENDAR
VERSION:2.0
PRODID:-//Nacidos de la Tierra//NONSGML kigkonsult.se iCalcreator 2.41.92//
CALSCALE:GREGORIAN
METHOD:PUBLISH
UID:64626438-6361-4430-a631-653936623636
X-WR-CALNAME:iCagenda
X-WR-CALDESC:Event Management Extension for Joomla!
X-WR-RELCALID:3E26604A-50F4-4449-8B3E-E4F4932D05B5
X-WR-TIMEZONE:Europe/Madrid
BEGIN:VTIMEZONE
TZID:Europe/Madrid
TZUNTIL:20241027T010000Z
BEGIN:STANDARD
TZNAME:CET
DTSTART:20211031T030000
TZOFFSETFROM:+0200
TZOFFSETTO:+0100
RDATE:20221030T030000
RDATE:20231029T030000
END:STANDARD
BEGIN:DAYLIGHT
TZNAME:CEST
DTSTART:20220327T020000
TZOFFSETFROM:+0100
TZOFFSETTO:+0200
RDATE:20230326T020000
RDATE:20240331T020000
END:DAYLIGHT
END:VTIMEZONE
BEGIN:VEVENT
UID:36393333-3936-4131-b966-613234623936
DTSTAMP:20260421T100214Z
CATEGORIES:Talleres y cursos
CLASS:PUBLIC
DESCRIPTION;ALTREP="CID:<FFFF__=0ABBE548DFE235B58f9e8a93d@coffeebean.com>":
 Aprende la técnica del graffiti de la mano de Xelon y Cesp en un taller do
 nde podrás realizar tu propia pieza y aprender las mejores técnicas para c
 rear un mural que podrá disfrutar todo el mundo y quedará para la posterid
 ad.\n
DTSTART:20221020T150000Z
DTEND:20221020T150000Z
GEO:+39.589134;-0.461396
LOCATION:Aula Jove
ORGANIZER:
SEQUENCE:1
SUMMARY:Taller de Graffiti Bétera
TRANSP:OPAQUE
URL:https://www.nacidosdelatierra.com/eventos/taller-de-graffiti-betera/202
 2-10-20-17-00.html
END:VEVENT
END:VCALENDAR
