BEGIN:VCALENDAR
VERSION:2.0
PRODID:-//Nacidos de la Tierra//NONSGML kigkonsult.se iCalcreator 2.41.92//
CALSCALE:GREGORIAN
METHOD:PUBLISH
UID:62306561-3765-4732-a135-353264393736
X-WR-CALNAME:iCagenda
X-WR-CALDESC:Event Management Extension for Joomla!
X-WR-RELCALID:3E26604A-50F4-4449-8B3E-E4F4932D05B5
X-WR-TIMEZONE:Europe/Madrid
BEGIN:VTIMEZONE
TZID:Europe/Madrid
TZUNTIL:20260329T010000Z
BEGIN:STANDARD
TZNAME:CET
DTSTART:20231029T030000
TZOFFSETFROM:+0200
TZOFFSETTO:+0100
RDATE:20241027T030000
RDATE:20251026T030000
END:STANDARD
BEGIN:DAYLIGHT
TZNAME:CEST
DTSTART:20240331T020000
TZOFFSETFROM:+0100
TZOFFSETTO:+0200
RDATE:20250330T020000
END:DAYLIGHT
END:VTIMEZONE
BEGIN:VEVENT
UID:36623632-6334-4462-b035-376431333062
DTSTAMP:20260419T220516Z
CATEGORIES:Talleres y cursos
CLASS:PUBLIC
DESCRIPTION;ALTREP="CID:<FFFF__=0ABBE548DFE235B58f9e8a93d@coffeebean.com>":
 El 16 de Julio\, vive la emoción del Taller de Parkour y Música Urbana en 
 Alfara del Patriarca. De 09:00 a 13:00 h\, jóvenes de 12 a 16 años podrán 
 explorar el arte del parkour\, aprendiendo a superar obstáculos urbanos co
 n agilidad y creatividad. Bajo la supervisión de expertos\, desarrollarás 
 habilidades físicas y mentales que te ayudarán a mejorar tu confianza y co
 ordinación.\nAdemás\, Kasú y Meser de Nacidos de la Tierra te llevarán a u
 na sesión de Música Urbana\, donde podrás conocer más sobre la creación de
  canciones y ritmos. Esta combinación de actividades físicas y creativas a
 segura un día lleno de aprendizaje y diversión.\nNo te pierdas esta oportu
 nidad de desafiar tus límites y descubrir nuevas formas de expresión.
DTSTART:20240716T070000Z
DTEND:20240716T070000Z
GEO:+39.544128;-0.385659
LOCATION:
ORGANIZER:
SEQUENCE:1
SUMMARY:Taller de Parkour y Música Urbana en Alfara del Patriarca
TRANSP:OPAQUE
URL:https://www.nacidosdelatierra.com/eventos/taller-de-parkour-y-musica-ur
 bana-en-alfara-del-patriarca/2024-07-16-09-00.html
END:VEVENT
END:VCALENDAR
