BEGIN:VCALENDAR
VERSION:2.0
PRODID:-//Nacidos de la Tierra//NONSGML kigkonsult.se iCalcreator 2.41.92//
CALSCALE:GREGORIAN
METHOD:PUBLISH
UID:31643932-3133-4439-b162-316434626236
X-WR-CALNAME:iCagenda
X-WR-CALDESC:Event Management Extension for Joomla!
X-WR-RELCALID:3E26604A-50F4-4449-8B3E-E4F4932D05B5
X-WR-TIMEZONE:Europe/Madrid
BEGIN:VTIMEZONE
TZID:Europe/Madrid
TZUNTIL:20271031T010000Z
BEGIN:STANDARD
TZNAME:CET
DTSTART:20251026T030000
TZOFFSETFROM:+0200
TZOFFSETTO:+0100
RDATE:20261025T030000
END:STANDARD
BEGIN:DAYLIGHT
TZNAME:CEST
DTSTART:20250330T020000
TZOFFSETFROM:+0100
TZOFFSETTO:+0200
RDATE:20260329T020000
RDATE:20270328T020000
END:DAYLIGHT
END:VTIMEZONE
BEGIN:VEVENT
UID:38653234-6165-4566-a334-353139393137
DTSTAMP:20260421T095650Z
CATEGORIES:Talleres y cursos
CLASS:PUBLIC
DESCRIPTION;ALTREP="CID:<FFFF__=0ABBE548DFE235B58f9e8a93d@coffeebean.com>":
 Este&nbsp\;Taller de Parkour&nbsp\;propone una experiencia de actividad fí
 sica y aprendizaje basada en el&nbsp\;movimiento consciente\, la agilidad 
 y la superación personal. La sesión está dirigida a la juventud y se desar
 rolla en un entorno controlado\, favoreciendo una práctica segura y progre
 siva.\nA lo largo de la actividad\, las personas participantes aprenderán&
 nbsp\;técnicas básicas de desplazamiento\, saltos y equilibrio\, adaptadas
  a diferentes niveles\, poniendo el foco en la&nbsp\;confianza en el propi
 o cuerpo&nbsp\;y en el respeto por los ritmos individuales.\nEl Parkour se
  presenta como una herramienta educativa que\, además del trabajo físico\,
  refuerza valores como la&nbsp\;autonomía\, la concentración\, el autocuid
 ado y el uso responsable del espacio público\, fomentando una relación pos
 itiva con el entorno y con una misma.\nUna propuesta de&nbsp\;ocio saludab
 le&nbsp\;que combina deporte\, aprendizaje y disfrute a través del movimie
 nto.\n{convertforms 21}
DTSTART:20260206T163000Z
DTEND:20260206T163000Z
GEO:+39.422394;-0.378395
LOCATION:Polideportivo de Sedaví– Pista de hockey
ORGANIZER:
SEQUENCE:1
SUMMARY:Taller de Parkour
TRANSP:OPAQUE
URL:https://www.nacidosdelatierra.com/eventos/taller-de-parkour/2026-02-06-
 17-30.html
END:VEVENT
END:VCALENDAR
