BEGIN:VCALENDAR
VERSION:2.0
PRODID:-//Nacidos de la Tierra//NONSGML kigkonsult.se iCalcreator 2.41.92//
CALSCALE:GREGORIAN
METHOD:PUBLISH
UID:37633334-6566-4537-b139-633465663437
X-WR-CALNAME:iCagenda
X-WR-CALDESC:Event Management Extension for Joomla!
X-WR-RELCALID:3E26604A-50F4-4449-8B3E-E4F4932D05B5
X-WR-TIMEZONE:Europe/Madrid
BEGIN:VTIMEZONE
TZID:Europe/Madrid
TZUNTIL:20251026T010000Z
BEGIN:STANDARD
TZNAME:CET
DTSTART:20231029T030000
TZOFFSETFROM:+0200
TZOFFSETTO:+0100
RDATE:20241027T030000
END:STANDARD
BEGIN:DAYLIGHT
TZNAME:CEST
DTSTART:20230326T020000
TZOFFSETFROM:+0100
TZOFFSETTO:+0200
RDATE:20240331T020000
RDATE:20250330T020000
END:DAYLIGHT
END:VTIMEZONE
BEGIN:VEVENT
UID:66373238-3838-4638-a265-396263663036
DTSTAMP:20260420T010526Z
CATEGORIES:Talleres y cursos
CLASS:PUBLIC
DESCRIPTION;ALTREP="CID:<FFFF__=0ABBE548DFE235B58f9e8a93d@coffeebean.com>":
 \n\n\n&nbsp\;\n\n\n\n\n\n\n\n\n¡Únete a nuestra actividad de sensibilizaci
 ón contra la violencia de género y por la promoción de la Igualdad! Te inv
 itamos a participar en una apasionante master class de Rap impartida por M
 eser y Kasú en el IES Villar del Arzobispo.\nDescubre cómo la cultura Hip 
 Hop puede ser una poderosa herramienta para abordar temas cruciales y fome
 ntar la conciencia social. La master class de Rap te sumergirá en la creat
 ividad\, la expresión y el respeto\, promoviendo la igualdad y contribuyen
 do a la lucha contra la violencia de género.\n¡No te pierdas esta oportuni
 dad de aprender\, reflexionar y ser parte del cambio! ¿Te unes a nosotros 
 en esta experiencia única? ¡Te esperamos en el IES Villar del Arzobispo!\n
 \n\n\n
DTSTART:20231121T090000Z
DTEND:20231121T090000Z
GEO:+39.736462;-0.826144
LOCATION:IES Villar del Arzobispo
ORGANIZER:
SEQUENCE:1
SUMMARY:Taller de Rap contra la violencia de género
TRANSP:OPAQUE
URL:https://www.nacidosdelatierra.com/eventos/taller-de-rap-contra-la-viole
 ncia-de-genero/2023-11-21-10-00.html
END:VEVENT
END:VCALENDAR
