BEGIN:VCALENDAR
VERSION:2.0
PRODID:-//Nacidos de la Tierra//NONSGML kigkonsult.se iCalcreator 2.41.92//
CALSCALE:GREGORIAN
METHOD:PUBLISH
UID:62353161-6438-4433-b966-396239396464
X-WR-CALNAME:iCagenda
X-WR-CALDESC:Event Management Extension for Joomla!
X-WR-RELCALID:3E26604A-50F4-4449-8B3E-E4F4932D05B5
X-WR-TIMEZONE:Europe/Madrid
BEGIN:VTIMEZONE
TZID:Europe/Madrid
TZUNTIL:20251026T010000Z
BEGIN:STANDARD
TZNAME:CET
DTSTART:20231029T030000
TZOFFSETFROM:+0200
TZOFFSETTO:+0100
RDATE:20241027T030000
END:STANDARD
BEGIN:DAYLIGHT
TZNAME:CEST
DTSTART:20240331T020000
TZOFFSETFROM:+0100
TZOFFSETTO:+0200
RDATE:20250330T020000
END:DAYLIGHT
END:VTIMEZONE
BEGIN:VEVENT
UID:31316361-3939-4534-a133-646465383339
DTSTAMP:20260420T013228Z
CATEGORIES:Talleres y cursos
CLASS:PUBLIC
DESCRIPTION;ALTREP="CID:<FFFF__=0ABBE548DFE235B58f9e8a93d@coffeebean.com>":
 Descubre el poder del Rap Positivo en el CEIP Nuestra Señora del Carmen\, 
 Aldaia. Este taller\, dirigido por Kasú y Meser de Nacidos de la Tierra\, 
 se llevará a cabo los días 18 y 25 de Abril de 2024\, de 10:00 a 12:00 h.
 \nEl alumnado de 6to de primaria tendrá la oportunidad de sumergirse en el
  mundo del rap\, explorando la creación y grabación de una canción colecti
 va intercentros. Bajo la guía experta de Kasú y Meser\, el alumnado partic
 ipante aprenderá los fundamentos del rap y trabajarán juntos para transmit
 ir mensajes positivos y empoderadores a través de la música.\nEste taller 
 promueve la creatividad\, el trabajo en equipo y la autoexpresión\, brinda
 ndo una experiencia educativa enriquecedora y divertida para el alumnado d
 el CEIP Nuestra Señora del Carmen.
DTSTART:20240425T080000Z
DTEND:20240425T080000Z
GEO:+39.474819;-0.467457
LOCATION:CEIP Nuestra Señora del Carmen
ORGANIZER:
SEQUENCE:1
SUMMARY:Taller de Rap Positivo con Kasú y Meser de Nacidos de la Tierra en 
 CEIP Nuestra Señora del Carmen\, Aldaia
TRANSP:OPAQUE
URL:https://www.nacidosdelatierra.com/eventos/taller-de-rap-positivo-con-ka
 su-y-meser-de-nacidos-de-la-tierra-en-ceip-nuestra-senora-del-carmen-aldai
 a/2024-04-25-10-00.html
END:VEVENT
END:VCALENDAR
