BEGIN:VCALENDAR
VERSION:2.0
PRODID:-//Nacidos de la Tierra//NONSGML kigkonsult.se iCalcreator 2.41.92//
CALSCALE:GREGORIAN
METHOD:PUBLISH
UID:30656534-3430-4030-b562-616435313935
X-WR-CALNAME:iCagenda
X-WR-CALDESC:Event Management Extension for Joomla!
X-WR-RELCALID:3E26604A-50F4-4449-8B3E-E4F4932D05B5
X-WR-TIMEZONE:Europe/Madrid
BEGIN:VTIMEZONE
TZID:Europe/Madrid
TZUNTIL:20251026T010000Z
BEGIN:STANDARD
TZNAME:CET
DTSTART:20231029T030000
TZOFFSETFROM:+0200
TZOFFSETTO:+0100
RDATE:20241027T030000
END:STANDARD
BEGIN:DAYLIGHT
TZNAME:CEST
DTSTART:20240331T020000
TZOFFSETFROM:+0100
TZOFFSETTO:+0200
RDATE:20250330T020000
END:DAYLIGHT
END:VTIMEZONE
BEGIN:VEVENT
UID:38616665-3935-4562-b764-383263333162
DTSTAMP:20260420T030503Z
CATEGORIES:Talleres y cursos
CLASS:PUBLIC
DESCRIPTION;ALTREP="CID:<FFFF__=0ABBE548DFE235B58f9e8a93d@coffeebean.com>":
 Descubre el poder del Rap Positivo en el IES Beatriu Civera\, Barrio del C
 risto\, Aldaia. Este taller\, dirigido por Kasú y Meser de Nacidos de la T
 ierra\, se llevará a cabo los días 16\, 23 y 30 de Abril de 2024\, de 10:0
 0 a 12:30 h.\nEl alumnado de 3º de ESO tendrá la oportunidad de sumergirse
  en el mundo del rap\, explorando la creación y grabación de una canción c
 olectiva intercentros. Bajo la guía experta de Kasú y Meser\, los/as parti
 cipantes aprenderán los fundamentos del rap y trabajarán juntas para trans
 mitir mensajes positivos y empoderadores a través de la música.\nEste tall
 er promueve la creatividad\, el trabajo en equipo y la autoexpresión\, bri
 ndando una experiencia educativa enriquecedora y divertida para el alumnad
 o del IES Beatriu Civera.
DTSTART:20240423T080000Z
DTEND:20240423T080000Z
GEO:+39.472504;-0.461183
LOCATION:IES Beatriu Civera\, Barrio del Cristo\, Aldaia
ORGANIZER:
SEQUENCE:1
SUMMARY:Taller de Rap Positivo con Kasú y Meser de Nacidos de la Tierra en 
 IES Beatriu Civera\, Aldaia
TRANSP:OPAQUE
URL:https://www.nacidosdelatierra.com/eventos/taller-de-rap-positivo-con-ka
 su-y-meser-de-nacidos-de-la-tierra-en-ies-beatriu-civera-aldaia/2024-04-23
 -10-00.html
END:VEVENT
END:VCALENDAR
