BEGIN:VCALENDAR
VERSION:2.0
PRODID:-//Nacidos de la Tierra//NONSGML kigkonsult.se iCalcreator 2.41.92//
CALSCALE:GREGORIAN
METHOD:PUBLISH
UID:63666636-6138-4632-a364-353938316231
X-WR-CALNAME:iCagenda
X-WR-CALDESC:Event Management Extension for Joomla!
X-WR-RELCALID:3E26604A-50F4-4449-8B3E-E4F4932D05B5
X-WR-TIMEZONE:Europe/Madrid
BEGIN:VTIMEZONE
TZID:Europe/Madrid
TZUNTIL:20251026T010000Z
BEGIN:STANDARD
TZNAME:CET
DTSTART:20231029T030000
TZOFFSETFROM:+0200
TZOFFSETTO:+0100
RDATE:20241027T030000
END:STANDARD
BEGIN:DAYLIGHT
TZNAME:CEST
DTSTART:20230326T020000
TZOFFSETFROM:+0100
TZOFFSETTO:+0200
RDATE:20240331T020000
RDATE:20250330T020000
END:DAYLIGHT
END:VTIMEZONE
BEGIN:VEVENT
UID:37656161-6436-4639-a562-356133653766
DTSTAMP:20260420T031229Z
CATEGORIES:Talleres y cursos
CLASS:PUBLIC
DESCRIPTION;ALTREP="CID:<FFFF__=0ABBE548DFE235B58f9e8a93d@coffeebean.com>":
 El Taller de Rap Positivo en el CEIP Verge Font de la Salut ofrece al alum
 nado de 6to de primaria una oportunidad única para explorar la música y la
  creatividad a través del rap. Este taller se llevará a cabo el Martes 30 
 de Enero de 2024\, de 11:00 a 14:00 h.\nDirigido por Kasú y Meser\, miembr
 os de Nacidos de la Tierra\, los estudiantes participarán en la creación d
 e una canción colectiva que transmitirá mensajes positivos y empoderadores
 . A través de la escritura de letras\, el alumnado aprenderá los fundament
 os del rap y tendrán la oportunidad de expresarse de manera creativa.\nEst
 e taller no solo proporciona una experiencia educativa enriquecedora\, sin
 o que también promueve valores como el trabajo en equipo\, la autoexpresió
 n y la positividad. Únete a nosotros para un día emocionante de música\, c
 reatividad y aprendizaje en el CEIP Verge Font de la Salut.
DTSTART:20240130T100000Z
DTEND:20240130T100000Z
GEO:+40.525002;+0.29298
LOCATION:CEIP Verge Font de la Salut
ORGANIZER:
SEQUENCE:1
SUMMARY:Taller de Rap Positivo con Kasú y Meser en CEIP Verge Font de la Sa
 lut\, Traiguera\, Castellón
TRANSP:OPAQUE
URL:https://www.nacidosdelatierra.com/eventos/taller-de-rap-positivo-con-ka
 su-y-meser-en-ceip-verge-font-de-la-salut-traiguera-castellon/2024-01-30-1
 1-00.html
END:VEVENT
END:VCALENDAR
