BEGIN:VCALENDAR
VERSION:2.0
PRODID:-//Nacidos de la Tierra//NONSGML kigkonsult.se iCalcreator 2.41.92//
CALSCALE:GREGORIAN
METHOD:PUBLISH
UID:64306163-3630-4765-b366-373330393365
X-WR-CALNAME:iCagenda
X-WR-CALDESC:Event Management Extension for Joomla!
X-WR-RELCALID:3E26604A-50F4-4449-8B3E-E4F4932D05B5
X-WR-TIMEZONE:Europe/Madrid
BEGIN:VTIMEZONE
TZID:Europe/Madrid
TZUNTIL:20260329T010000Z
BEGIN:STANDARD
TZNAME:CET
DTSTART:20231029T030000
TZOFFSETFROM:+0200
TZOFFSETTO:+0100
RDATE:20241027T030000
RDATE:20251026T030000
END:STANDARD
BEGIN:DAYLIGHT
TZNAME:CEST
DTSTART:20240331T020000
TZOFFSETFROM:+0100
TZOFFSETTO:+0200
RDATE:20250330T020000
END:DAYLIGHT
END:VTIMEZONE
BEGIN:VEVENT
UID:30323333-3762-4662-b561-363866333566
DTSTAMP:20260420T011547Z
CATEGORIES:Talleres y cursos
CLASS:PUBLIC
DESCRIPTION;ALTREP="CID:<FFFF__=0ABBE548DFE235B58f9e8a93d@coffeebean.com>":
 Taller de Rap Positivo con Nacidos de la Tierra en la Asociación COTLAS el
  sábado 18 de Mayo de 2024\, de 17:30 a 19:30 h\, en el Centro Social Sena
 bre\, Carrer de Llanera de Ranes\, 30\, 46017 Valencia\, España.\nEste tal
 ler está diseñado para el colectivo del programa de Discapacidad Intelectu
 al de la Asociación de Voluntariado Social COTLAS. Durante esta sesión\, l
 as personas participantes tendrán la oportunidad de introducirse en la cre
 ación de canciones urbanas\, explorando esta forma de expresión musical.\n
 Guiados por Kasú y Meser de Nacidos de la Tierra\, las participantes podrá
 n crear vínculos\, expresar pensamientos y emociones\, y disfrutar de una 
 experiencia creativa y divertida. Este taller promueve la inclusión\, la a
 utoexpresión y el empoderamiento a través de la música.
DTSTART:20240518T153000Z
DTEND:20240518T153000Z
GEO:+39.45322;-0.389049
LOCATION:Centro Social Senabre
ORGANIZER:
SEQUENCE:1
SUMMARY:Taller de Rap Positivo con Nacidos de la Tierra en Asociación COTLA
 S
TRANSP:OPAQUE
URL:https://www.nacidosdelatierra.com/eventos/taller-de-rap-positivo-con-na
 cidos-de-la-tierra-en-asociacion-cotlas/2024-05-18-17-30.html
END:VEVENT
END:VCALENDAR
