BEGIN:VCALENDAR
VERSION:2.0
PRODID:-//Nacidos de la Tierra//NONSGML kigkonsult.se iCalcreator 2.41.92//
CALSCALE:GREGORIAN
METHOD:PUBLISH
UID:37646362-3338-4538-b637-396538383866
X-WR-CALNAME:iCagenda
X-WR-CALDESC:Event Management Extension for Joomla!
X-WR-RELCALID:3E26604A-50F4-4449-8B3E-E4F4932D05B5
X-WR-TIMEZONE:Europe/Madrid
BEGIN:VTIMEZONE
TZID:Europe/Madrid
TZUNTIL:20251026T010000Z
BEGIN:STANDARD
TZNAME:CET
DTSTART:20231029T030000
TZOFFSETFROM:+0200
TZOFFSETTO:+0100
RDATE:20241027T030000
END:STANDARD
BEGIN:DAYLIGHT
TZNAME:CEST
DTSTART:20230326T020000
TZOFFSETFROM:+0100
TZOFFSETTO:+0200
RDATE:20240331T020000
RDATE:20250330T020000
END:DAYLIGHT
END:VTIMEZONE
BEGIN:VEVENT
UID:34613831-3765-4832-b730-303463336263
DTSTAMP:20260420T011215Z
CATEGORIES:Talleres y cursos
CLASS:PUBLIC
DESCRIPTION;ALTREP="CID:<FFFF__=0ABBE548DFE235B58f9e8a93d@coffeebean.com>":
 Los/as alumnos/as del CEIP Carles Salvador y CEIP Doctor Olóriz se unirán 
 en una experiencia única\, creando juntas una canción que resalta valores 
 esenciales como la cooperación\, el trabajo en comunidad\, la inclusión y 
 la celebración de la diversidad e interculturalidad.
DTSTART:20231211T103000Z
DTEND:20231211T103000Z
GEO:+39.487846;-0.363526
LOCATION:CEIP Carles Salvador
ORGANIZER:
SEQUENCE:1
SUMMARY:Taller de Rap Positivo en CEIP Carles Salvador de Valencia
TRANSP:OPAQUE
URL:https://www.nacidosdelatierra.com/eventos/taller-de-rap-positivo-en-cei
 p-carles-salvador-de-valencia/2023-12-11-11-30.html
END:VEVENT
END:VCALENDAR
