BEGIN:VCALENDAR
VERSION:2.0
PRODID:-//Nacidos de la Tierra//NONSGML kigkonsult.se iCalcreator 2.41.92//
CALSCALE:GREGORIAN
METHOD:PUBLISH
UID:38656430-3731-4364-b465-646538316162
X-WR-CALNAME:iCagenda
X-WR-CALDESC:Event Management Extension for Joomla!
X-WR-RELCALID:3E26604A-50F4-4449-8B3E-E4F4932D05B5
X-WR-TIMEZONE:Europe/Madrid
BEGIN:VTIMEZONE
TZID:Europe/Madrid
TZUNTIL:20260329T010000Z
BEGIN:STANDARD
TZNAME:CET
DTSTART:20231029T030000
TZOFFSETFROM:+0200
TZOFFSETTO:+0100
RDATE:20241027T030000
RDATE:20251026T030000
END:STANDARD
BEGIN:DAYLIGHT
TZNAME:CEST
DTSTART:20240331T020000
TZOFFSETFROM:+0100
TZOFFSETTO:+0200
RDATE:20250330T020000
END:DAYLIGHT
END:VTIMEZONE
BEGIN:VEVENT
UID:66343061-3335-4632-a434-313434643364
DTSTAMP:20260420T030952Z
CATEGORIES:Talleres y cursos
CLASS:PUBLIC
DESCRIPTION;ALTREP="CID:<FFFF__=0ABBE548DFE235B58f9e8a93d@coffeebean.com>":
 El 18 de Julio\, el Taller de Skate y Música Urbana en Alfara del Patriarc
 a ofrece a jóvenes de 12 a 16 años una jornada emocionante de 09:00 a 13:0
 0 h. Aprende técnicas de skate con instructores expertos\, mejorando tus h
 abilidades sobre la tabla y aprendiendo trucos nuevos en un entorno seguro
  y divertido.\nJunto a esto\, Kasú y Meser de Nacidos de la Tierra imparti
 rán un taller de Música Urbana\, donde descubrirás cómo se producen las ca
 nciones y ritmos que forman parte de este género. Esta combinación de skat
 e y música te permitirá explorar nuevas formas de autoexpresión y creativi
 dad.\nVen y disfruta de un día lleno de acción y música\, perfecto para de
 sarrollar tu talento y pasarlo genial.
DTSTART:20240718T070000Z
DTEND:20240718T070000Z
GEO:+39.544128;-0.385659
LOCATION:
ORGANIZER:
SEQUENCE:1
SUMMARY:Taller de Skate y Música Urbana en Alfara del Patriarca
TRANSP:OPAQUE
URL:https://www.nacidosdelatierra.com/eventos/taller-de-skate-y-musica-urba
 na-en-alfara-del-patriarca/2024-07-18-09-00.html
END:VEVENT
END:VCALENDAR
