BEGIN:VCALENDAR
VERSION:2.0
PRODID:-//Nacidos de la Tierra//NONSGML kigkonsult.se iCalcreator 2.41.92//
CALSCALE:GREGORIAN
METHOD:PUBLISH
UID:63646235-6339-4430-b636-653366363862
X-WR-CALNAME:iCagenda
X-WR-CALDESC:Event Management Extension for Joomla!
X-WR-RELCALID:3E26604A-50F4-4449-8B3E-E4F4932D05B5
X-WR-TIMEZONE:Europe/Madrid
BEGIN:VTIMEZONE
TZID:Europe/Madrid
TZUNTIL:20240331T010000Z
BEGIN:STANDARD
TZNAME:CET
DTSTART:20211031T030000
TZOFFSETFROM:+0200
TZOFFSETTO:+0100
RDATE:20221030T030000
RDATE:20231029T030000
END:STANDARD
BEGIN:DAYLIGHT
TZNAME:CEST
DTSTART:20220327T020000
TZOFFSETFROM:+0100
TZOFFSETTO:+0200
RDATE:20230326T020000
END:DAYLIGHT
END:VTIMEZONE
BEGIN:VEVENT
UID:37303865-3939-4531-a333-373939323534
DTSTAMP:20260420T010545Z
CATEGORIES:Talleres y cursos
CLASS:PUBLIC
DESCRIPTION;ALTREP="CID:<FFFF__=0ABBE548DFE235B58f9e8a93d@coffeebean.com>":
 Tú Tries es un espacio al que vienes a pasártelo bien y donde tú eliges lo
  que quieres hacer\, Fotografía con el Móvil\, Danza Urbana\, Taller de Ma
 nga\, Cocina Saludable y Juegos de Rol y competiciones de videojuegos&nbsp
 \;además de muchas cosas más...\,\n
DTSTART:20220711T160000Z
DTEND:20220711T180000Z
GEO:+39.461723;-0.422394
LOCATION:Centre Jove Xirivella
ORGANIZER:
SEQUENCE:1
SUMMARY:Tú Tries Xirivella 2022
TRANSP:OPAQUE
URL:https://www.nacidosdelatierra.com/eventos/tu-tries-xirivella-2022/2022-
 07-11-18-00.html
END:VEVENT
END:VCALENDAR
